View In:
  ArcGIS JavaScript
  ArcGIS Online Map Viewer
  ArcGIS Earth
  ArcMap
View Footprint In:
  ArcGIS Online Map Viewer
Service Description:  Satellite synthetic aperture radar interferometry (InSAR) shows dike opening in the far eastern ERZ. The interferogram observations capture the total displacement between May 8, 2018 and May 22, 2018. Other observations: seismicity, and InSAR and GPS geodetic data, suggests that most of this motion is related to the ongoing fissure eruption that started on May 3, 2018. Each color cycle is approximately 12 cm and is the projection of surface displacements into the radar line-of sight. Included in this interferogram are noise signals due to tropospheric and ionospheric atmosphere residuals. Also, a ramp in the along-track direction was removed from this interferogram. The interferogram was produced by the ARIA project which is a joint effort of NASA's Jet Propulsion Laboratory and the California Institute of Technology using synthetic aperture radar (SAR) data from the Japanese Aerospace Exploration Agency's (JAXA) PALSAR-2 L-band radar on the ALOS-2 satellite. ALOS-2 SLC data provided through RA6 AO project number P3024002. ALOS-2 processing used ISCE software processing components. Part of this research was carried out at the Jet Propulsion Laboratory, California Institute of Technology, under a contract with the National Aeronautics and Space Administration.
Name:  Kilauea_Volcano/ALOS2_Interferogram_20180522_20180508_cropped
Description:  Satellite synthetic aperture radar interferometry (InSAR) shows dike opening in the far eastern ERZ. The interferogram observations capture the total displacement between May 8, 2018 and May 22, 2018. Other observations: seismicity, and InSAR and GPS geodetic data, suggests that most of this motion is related to the ongoing fissure eruption that started on May 3, 2018. Each color cycle is approximately 12 cm and is the projection of surface displacements into the radar line-of sight. Included in this interferogram are noise signals due to tropospheric and ionospheric atmosphere residuals. Also, a ramp in the along-track direction was removed from this interferogram. The interferogram was produced by the ARIA project which is a joint effort of NASA's Jet Propulsion Laboratory and the California Institute of Technology using synthetic aperture radar (SAR) data from the Japanese Aerospace Exploration Agency's (JAXA) PALSAR-2 L-band radar on the ALOS-2 satellite. ALOS-2 SLC data provided through RA6 AO project number P3024002. ALOS-2 processing used ISCE software processing components. Part of this research was carried out at the Jet Propulsion Laboratory, California Institute of Technology, under a contract with the National Aeronautics and Space Administration.
Single Fused Map Cache:  false
Extent: 
XMin: -1.7265434189315174E7
YMin: 2188298.515215399
XMax: -1.723231453050781E7
YMax: 2243480.61991033
Spatial Reference: 102100
 (3857)
Initial Extent:
XMin: -1.7265434189315174E7
YMin: 2188298.515215399
XMax: -1.723231453050781E7
YMax: 2243480.61991033
Spatial Reference: 102100
 (3857)
Full Extent:
XMin: -1.7265434189315174E7
YMin: 2188298.515215399
XMax: -1.723231453050781E7
YMax: 2243480.61991033
Spatial Reference: 102100
 (3857)
Pixel Size X: 38.51123117135275
Pixel Size Y:  40.997106014064514
Band Count: 4
Pixel Type: U8
RasterFunction Infos:  {"rasterFunctionInfos": [
 {
  "name": "RGB Composite",
  "description": "A raster function template.",
  "help": ""
 },
 {
  "name": "None",
  "description": "",
  "help": ""
 }
]}
Mensuration Capabilities: Basic
Has Histograms:  false
Has Colormap:  false
Has Multi Dimensions :  false
Rendering Rule: 
Min Scale:  0
Max Scale:  0
Copyright Text:  
Service Data Type:  esriImageServiceDataTypeGeneric
Min Values:  N/A
Max Values:  N/A
Mean Values:  N/A
Standard Deviation Values:  N/A
Object ID Field:  
Fields: 
None
Default Mosaic Method:  Center
Allowed Mosaic Methods:  
SortField:  
SortValue:  null
Mosaic Operator:  First
Default Compression Quality:  75
Default Resampling Method:  Bilinear
Max Record Count:  null
Max Image Height:  4100
Max Image Width:  15000
Max Download Image Count:  null
Max Mosaic Image Count:  null
Allow Raster Function:  true
Allow Copy:  true
Allow Analysis:  true
Allow Compute TiePoints:  false
Supports Statistics:  false
Supports Advanced Queries:  false
Use StandardizedQueries:  true
Raster Type Infos: 
Name: Raster Dataset
Description: Supports all ArcGIS Raster Datasets
Help: 
Has Raster Attribute Table: false
Edit Fields Info:  null
Ownership Based AccessControl For Rasters:  null
Child Resources:
  
Info
  Statistics
  Key Properties
  Legend
  Raster Function Infos
Supported Operations:
  
Export Image
  Identify
  Measure
  Compute Histograms
  Compute Statistics Histograms
  Get Samples
  Compute Class Statistics
  Query Boundary
  Compute Pixel Location
  Compute Angles
  Validate
  Project