View In:
ArcGIS JavaScript
ArcGIS Online Map Viewer
ArcGIS Earth
ArcMap
View Footprint In:
ArcGIS Online Map Viewer
Service Description: Kilauea_Volcano/ALOS2_Interferogram_20180526_20180512
Name: Kilauea_Volcano/ALOS2_Interferogram_20180526_20180512
Description:
Single Fused Map Cache: false
Extent:
XMin: 169011.91242372338
YMin: 1846710.698183446
XMax: 376494.7297458119
YMax: 2226697.8334089085
Spatial Reference: 32605
(32605)
Initial Extent:
XMin: 169011.91242372338
YMin: 1846710.698183446
XMax: 376494.7297458119
YMax: 2226697.8334089085
Spatial Reference: 32605
(32605)
Full Extent:
XMin: 169011.91242372338
YMin: 1846710.698183446
XMax: 376494.7297458119
YMax: 2226697.8334089085
Spatial Reference: 32605
(32605)
Pixel Size X: 37.45177207979937
Pixel Size Y: 38.64799992122279
Band Count: 4
Pixel Type: U8
RasterFunction Infos: {"rasterFunctionInfos": [
{
"name": "RGB Composite",
"description": "A raster function template.",
"help": ""
},
{
"name": "None",
"description": "",
"help": ""
}
]}
Mensuration Capabilities: Basic
Has Histograms: false
Has Colormap: false
Has Multi Dimensions : false
Rendering Rule:
Min Scale: 0
Max Scale: 0
Copyright Text:
Service Data Type: esriImageServiceDataTypeGeneric
Min Values: N/A
Max Values: N/A
Mean Values: N/A
Standard Deviation Values: N/A
Object ID Field:
Fields:
None
Default Mosaic Method: Center
Allowed Mosaic Methods:
SortField:
SortValue: null
Mosaic Operator: First
Default Compression Quality: 75
Default Resampling Method: Bilinear
Max Record Count: null
Max Image Height: 4100
Max Image Width: 15000
Max Download Image Count: null
Max Mosaic Image Count: null
Allow Raster Function: true
Allow Copy: true
Allow Analysis: true
Allow Compute TiePoints: false
Supports Statistics: false
Supports Advanced Queries: false
Use StandardizedQueries: true
Raster Type Infos:
Name: Raster Dataset
Description: Supports all ArcGIS Raster Datasets
Help:
Has Raster Attribute Table: false
Edit Fields Info: null
Ownership Based AccessControl For Rasters: null
Child Resources:
Info
Statistics
Key Properties
Legend
Raster Function Infos
Supported Operations:
Export Image
Identify
Measure
Compute Histograms
Compute Statistics Histograms
Get Samples
Compute Class Statistics
Query Boundary
Compute Pixel Location
Compute Angles
Validate
Project