View In:
  ArcGIS JavaScript
  ArcGIS Online Map Viewer
  ArcGIS Earth
  ArcMap
View Footprint In:
  ArcGIS Online Map Viewer
Service Description:  Kilauea_Volcano/ALOS2_Interferogram_20180623_20180609_cropped
Name:  Kilauea_Volcano/ALOS2_Interferogram_20180623_20180609_cropped
Description:  
Single Fused Map Cache:  false
Extent: 
XMin: -156.107778
YMin: 16.699167
XMax: -154.18444399999998
YMax: 20.112777999999995
Spatial Reference: 4326
 (4326)
 VCSWkid(5773)
 LatestVCSWkid(5773)
Initial Extent:
XMin: -156.107778
YMin: 16.699167
XMax: -154.18444399999998
YMax: 20.112777999999995
Spatial Reference: 4326
 (4326)
 VCSWkid(5773)
 LatestVCSWkid(5773)
Full Extent:
XMin: -156.107778
YMin: 16.699167
XMax: -154.18444399999998
YMax: 20.112777999999995
Spatial Reference: 4326
 (4326)
 VCSWkid(5773)
 LatestVCSWkid(5773)
Pixel Size X: 3.47172202166067E-4
Pixel Size Y:  3.4719395850284744E-4
Band Count: 4
Pixel Type: U8
RasterFunction Infos:  {"rasterFunctionInfos": [
 {
  "name": "RGB Composite",
  "description": "A raster function template.",
  "help": ""
 },
 {
  "name": "None",
  "description": "",
  "help": ""
 }
]}
Mensuration Capabilities: Basic
Has Histograms:  false
Has Colormap:  false
Has Multi Dimensions :  false
Rendering Rule: 
Min Scale:  0
Max Scale:  0
Copyright Text:  
Service Data Type:  esriImageServiceDataTypeGeneric
Min Values:  N/A
Max Values:  N/A
Mean Values:  N/A
Standard Deviation Values:  N/A
Object ID Field:  
Fields: 
None
Default Mosaic Method:  Center
Allowed Mosaic Methods:  
SortField:  
SortValue:  null
Mosaic Operator:  First
Default Compression Quality:  75
Default Resampling Method:  Bilinear
Max Record Count:  null
Max Image Height:  4100
Max Image Width:  15000
Max Download Image Count:  null
Max Mosaic Image Count:  null
Allow Raster Function:  true
Allow Copy:  true
Allow Analysis:  true
Allow Compute TiePoints:  false
Supports Statistics:  false
Supports Advanced Queries:  false
Use StandardizedQueries:  true
Raster Type Infos: 
Name: Raster Dataset
Description: Supports all ArcGIS Raster Datasets
Help: 
Has Raster Attribute Table: false
Edit Fields Info:  null
Ownership Based AccessControl For Rasters:  null
Child Resources:
  
Info
  Statistics
  Key Properties
  Legend
  Raster Function Infos
Supported Operations:
  
Export Image
  Identify
  Measure
  Compute Histograms
  Compute Statistics Histograms
  Get Samples
  Compute Class Statistics
  Query Boundary
  Compute Pixel Location
  Compute Angles
  Validate
  Project