View In:
  ArcGIS JavaScript
  ArcGIS Online Map Viewer
  ArcGIS Earth
  ArcMap
View Footprint In:
  ArcGIS Online Map Viewer
Service Description:  ARIA Interferogram by ESA Copernicus Sentinel 1 Radar. Fringes show deflation of Kilauea caldera (bulls-eye pattern to the left). east rift zone (ERZ) subsidence in the center, and incoherence to the right in the eastern ERZ where the fissure eruption is located. Fringes closer to the south coast are partially related to the M6.9 earthquake or other fault slip.
Name:  Kilauea_Volcano/IFG_20180411_20180505_cropped
Description:  ARIA Interferogram by ESA Copernicus Sentinel 1 Radar. Fringes show deflation of Kilauea caldera (bulls-eye pattern to the left). east rift zone (ERZ) subsidence in the center, and incoherence to the right in the eastern ERZ where the fissure eruption is located. Fringes closer to the south coast are partially related to the M6.9 earthquake or other fault slip.
Single Fused Map Cache:  false
Extent: 
XMin: -155.6299925723311
YMin: 18.47105573322455
XMax: -154.39084670406362
YMax: 20.160686585589104
Spatial Reference: 4326
 (4326)
Initial Extent:
XMin: -155.6299925723311
YMin: 18.47105573322455
XMax: -154.39084670406362
YMax: 20.160686585589104
Spatial Reference: 4326
 (4326)
Full Extent:
XMin: -155.6299925723311
YMin: 18.47105573322455
XMax: -154.39084670406362
YMax: 20.160686585589104
Spatial Reference: 4326
 (4326)
Pixel Size X: 3.472942455906629E-4
Pixel Size Y:  3.4737476405521283E-4
Band Count: 4
Pixel Type: U8
RasterFunction Infos:  {"rasterFunctionInfos": [{
 "name": "None",
 "description": "",
 "help": ""
}]}
Mensuration Capabilities: Basic
Has Histograms:  true
Has Colormap:  false
Has Multi Dimensions :  false
Rendering Rule: 
Min Scale:  0
Max Scale:  0
Copyright Text:  Sentinel-1 data, Contains modified ESA Copernicus Sentinel data (2018). Data process on NASA/JPL/ARIA
Service Data Type:  esriImageServiceDataTypeGeneric
Min Values:  1, 1, 1, 255
Max Values:  255, 255, 255, 255
Mean Values:  93.918716548452, 94.52495307949, 93.808278546747, 255
Standard Deviation Values:  66.309166956879, 66.606522153917, 66.06521058324, 0
Object ID Field:  
Fields: 
None
Default Mosaic Method:  Center
Allowed Mosaic Methods:  
SortField:  
SortValue:  null
Mosaic Operator:  First
Default Compression Quality:  75
Default Resampling Method:  Bilinear
Max Record Count:  null
Max Image Height:  4100
Max Image Width:  15000
Max Download Image Count:  null
Max Mosaic Image Count:  null
Allow Raster Function:  true
Allow Copy:  true
Allow Analysis:  true
Allow Compute TiePoints:  false
Supports Statistics:  false
Supports Advanced Queries:  false
Use StandardizedQueries:  true
Raster Type Infos: 
Name: Raster Dataset
Description: Supports all ArcGIS Raster Datasets
Help: 
Has Raster Attribute Table: false
Edit Fields Info:  null
Ownership Based AccessControl For Rasters:  null
Child Resources:
  
Info
  Histograms
  Statistics
  Key Properties
  Legend
  Raster Function Infos
Supported Operations:
  
Export Image
  Identify
  Measure
  Compute Histograms
  Compute Statistics Histograms
  Get Samples
  Compute Class Statistics
  Query Boundary
  Compute Pixel Location
  Compute Angles
  Validate
  Project