View In:
ArcGIS JavaScript
ArcGIS Online Map Viewer
ArcGIS Earth
ArcMap
View Footprint In:
ArcGIS Online Map Viewer
Service Description: Purpose/Summary:
MODIS Thermal Infrared (TIR) color composite. Volcanic SO2 plumes are shown in yellow.
Suggested Usage:
Identifying plume locations
Satellite/Sensor:
MODIS-Terra Channels 29, 31, and 32
Resolution:
1 km at nadir
Credits/Acknowledgements:
NASA, JPL, California Institute of Technology
Name: Kilauea_Volcano/MOD_20180506_2100_DS3
Description: Purpose/Summary:
MODIS Thermal Infrared (TIR) color composite. Volcanic SO2 plumes are shown in yellow.
Suggested Usage:
Identifying plume locations
Satellite/Sensor:
MODIS-Terra Channels 29, 31, and 32
Resolution:
1 km at nadir
Credits/Acknowledgements:
NASA, JPL, California Institute of Technology
Single Fused Map Cache: false
Extent:
XMin: -128301.79099999997
YMin: 1793357.148
XMax: 581414.209
YMax: 2475084.348
Spatial Reference: 32605
(32605)
Initial Extent:
XMin: -128301.79099999997
YMin: 1793357.148
XMax: 581414.209
YMax: 2475084.348
Spatial Reference: 32605
(32605)
Full Extent:
XMin: -128301.79099999997
YMin: 1793357.148
XMax: 581414.209
YMax: 2475084.348
Spatial Reference: 32605
(32605)
Pixel Size X: 999.6
Pixel Size Y: 999.6000000000003
Band Count: 3
Pixel Type: U8
RasterFunction Infos: {"rasterFunctionInfos": [{
"name": "None",
"description": "",
"help": ""
}]}
Mensuration Capabilities: Basic
Has Histograms: false
Has Colormap: false
Has Multi Dimensions : false
Rendering Rule:
Min Scale: 0
Max Scale: 0
Copyright Text: NASA, JPL, California Institute of Technology
Service Data Type: esriImageServiceDataTypeRGB
Min Values: N/A
Max Values: N/A
Mean Values: N/A
Standard Deviation Values: N/A
Object ID Field:
Fields:
None
Default Mosaic Method: Center
Allowed Mosaic Methods:
SortField:
SortValue: null
Mosaic Operator: First
Default Compression Quality: 75
Default Resampling Method: Bilinear
Max Record Count: null
Max Image Height: 4100
Max Image Width: 15000
Max Download Image Count: null
Max Mosaic Image Count: null
Allow Raster Function: true
Allow Copy: true
Allow Analysis: true
Allow Compute TiePoints: false
Supports Statistics: false
Supports Advanced Queries: false
Use StandardizedQueries: true
Raster Type Infos:
Name: Raster Dataset
Description: Supports all ArcGIS Raster Datasets
Help:
Has Raster Attribute Table: false
Edit Fields Info: null
Ownership Based AccessControl For Rasters: null
Child Resources:
Info
Statistics
Key Properties
Legend
Raster Function Infos
Supported Operations:
Export Image
Identify
Measure
Compute Histograms
Compute Statistics Histograms
Get Samples
Compute Class Statistics
Query Boundary
Compute Pixel Location
Compute Angles
Validate
Project