View In:
  ArcGIS JavaScript
  ArcGIS Online Map Viewer
  ArcGIS Earth
  ArcMap
View Footprint In:
  ArcGIS Online Map Viewer
Service Description:  Purpose/Summary:
ASTER images produced from data acquired on May 6 at 20:58 UTC. Visible-near infrared and thermal infrared multispectral bands show different aspects of the eruption
Sensor:
Advanced Spaceborne Thermal Emission and Reflection Radiometer (ASTER) on NASA's Terra platform
Resolution:
15m for isible-near IR; 90m for thermal bands
Further Reference:
Name:  Kilauea_Volcano/Pahoa_vis_hotspot_20180506
Description:  Purpose/Summary:
ASTER images produced from data acquired on May 6 at 20:58 UTC. Visible-near infrared and thermal infrared multispectral bands show different aspects of the eruption
Sensor:
Advanced Spaceborne Thermal Emission and Reflection Radiometer (ASTER) on NASA's Terra platform
Resolution:
15m for isible-near IR; 90m for thermal bands
Further Reference:
Single Fused Map Cache:  false
Extent: 
XMin: -155.53103427336063
YMin: 18.98624013886172
XMax: -154.7261666364246
YMax: 19.66412477111959
Spatial Reference: 4326
 (4326)
Initial Extent:
XMin: -155.53103427336063
YMin: 18.98624013886172
XMax: -154.7261666364246
YMax: 19.66412477111959
Spatial Reference: 4326
 (4326)
Full Extent:
XMin: -155.53103427336063
YMin: 18.98624013886172
XMax: -154.7261666364246
YMax: 19.66412477111959
Spatial Reference: 4326
 (4326)
Pixel Size X: 1.577553188820117E-4
Pixel Size Y:  1.6533771518484585E-4
Band Count: 3
Pixel Type: U16
RasterFunction Infos:  {"rasterFunctionInfos": [{
 "name": "None",
 "description": "",
 "help": ""
}]}
Mensuration Capabilities: Basic
Has Histograms:  true
Has Colormap:  false
Has Multi Dimensions :  false
Rendering Rule: 
Min Scale:  0
Max Scale:  0
Copyright Text:  NASA/METI/AIST/Japan Space Systems and US/Japan ASTER Science Team
Service Data Type:  esriImageServiceDataTypeGeneric
Min Values:  0, 0, 0
Max Values:  255, 255, 255
Mean Values:  65.858081762451, 70.902448148327, 116.32093628353
Standard Deviation Values:  84.445366577145, 80.638149165783, 76.451325331707
Object ID Field:  
Fields: 
None
Default Mosaic Method:  Center
Allowed Mosaic Methods:  
SortField:  
SortValue:  null
Mosaic Operator:  First
Default Compression Quality:  75
Default Resampling Method:  Bilinear
Max Record Count:  null
Max Image Height:  4100
Max Image Width:  15000
Max Download Image Count:  null
Max Mosaic Image Count:  null
Allow Raster Function:  true
Allow Copy:  true
Allow Analysis:  true
Allow Compute TiePoints:  false
Supports Statistics:  false
Supports Advanced Queries:  false
Use StandardizedQueries:  true
Raster Type Infos: 
Name: Raster Dataset
Description: Supports all ArcGIS Raster Datasets
Help: 
Has Raster Attribute Table: false
Edit Fields Info:  null
Ownership Based AccessControl For Rasters:  null
Child Resources:
  
Info
  Histograms
  Statistics
  Key Properties
  Legend
  Raster Function Infos
Supported Operations:
  
Export Image
  Identify
  Measure
  Compute Histograms
  Compute Statistics Histograms
  Get Samples
  Compute Class Statistics
  Query Boundary
  Compute Pixel Location
  Compute Angles
  Validate
  Project