View In:
  ArcGIS JavaScript
  ArcGIS Online Map Viewer
  ArcGIS Earth
  ArcMap
View Footprint In:
  ArcGIS Online Map Viewer
Service Description:  On May 2, 2017, the Moderate Resolution Imaging Spectroradiometer (MODIS) on NASA’s Terra satellite acquired this false-color image of flooding along several tributaries of Mississippi River. Flood water appears blue and black; forested areas are green. Fields without much vegetation are brown. For comparison, the image at the top shows these watersheds on April 25, 2017, under more typical conditions for the season. Turn on the image comparison tool to see the changes.
Name:  Missouri_Flood_17/mississippi_tmo_2017122_geo
Description:  On May 2, 2017, the Moderate Resolution Imaging Spectroradiometer (MODIS) on NASA’s Terra satellite acquired this false-color image of flooding along several tributaries of Mississippi River. Flood water appears blue and black; forested areas are green. Fields without much vegetation are brown. For comparison, the image at the top shows these watersheds on April 25, 2017, under more typical conditions for the season. Turn on the image comparison tool to see the changes.
Single Fused Map Cache:  false
Extent: 
XMin: -94.83300879373616
YMin: 30.224306917256946
XMax: -83.79393584921745
YMax: 41.31610379225694
Spatial Reference: 4326
 (4326)
Initial Extent:
XMin: -94.83300879373616
YMin: 30.224306917256946
XMax: -83.79393584921745
YMax: 41.31610379225694
Spatial Reference: 4326
 (4326)
Full Extent:
XMin: -94.83300879373616
YMin: 30.224306917256946
XMax: -83.79393584921745
YMax: 41.31610379225694
Spatial Reference: 4326
 (4326)
Pixel Size X: 0.002196830436720141
Pixel Size Y:  0.0021968304367201413
Band Count: 3
Pixel Type: U8
RasterFunction Infos:  {"rasterFunctionInfos": [{
 "name": "None",
 "description": "",
 "help": ""
}]}
Mensuration Capabilities: Basic
Has Histograms:  false
Has Colormap:  false
Has Multi Dimensions :  false
Rendering Rule: 
Min Scale:  0
Max Scale:  0
Copyright Text:  NASA Earth Observatory images by Joshua Stevens, using MODIS data from LANCE/EOSDIS Rapid Response. Caption by Adam Voiland. 
Service Data Type:  esriImageServiceDataTypeRGB
Min Values:  N/A
Max Values:  N/A
Mean Values:  N/A
Standard Deviation Values:  N/A
Object ID Field:  
Fields: 
None
Default Mosaic Method:  Center
Allowed Mosaic Methods:  
SortField:  
SortValue:  null
Mosaic Operator:  First
Default Compression Quality:  75
Default Resampling Method:  Bilinear
Max Record Count:  null
Max Image Height:  4100
Max Image Width:  15000
Max Download Image Count:  null
Max Mosaic Image Count:  null
Allow Raster Function:  true
Allow Copy:  true
Allow Analysis:  true
Allow Compute TiePoints:  false
Supports Statistics:  false
Supports Advanced Queries:  false
Use StandardizedQueries:  true
Raster Type Infos: 
Name: Raster Dataset
Description: Supports all ArcGIS Raster Datasets
Help: 
Has Raster Attribute Table: false
Edit Fields Info:  null
Ownership Based AccessControl For Rasters:  null
Child Resources:
  
Info
  Statistics
  Key Properties
  Legend
  Raster Function Infos
Supported Operations:
  
Export Image
  Identify
  Measure
  Compute Histograms
  Compute Statistics Histograms
  Get Samples
  Compute Class Statistics
  Query Boundary
  Compute Pixel Location
  Compute Angles
  Validate
  Project