View In:
ArcGIS JavaScript
ArcGIS Online Map Viewer
ArcGIS Earth
ArcMap
View Footprint In:
ArcGIS Online Map Viewer
Service Description: Background:
Land Information System (LIS) Relative Soil Moisture (RSM) from NASA’s SPoRT Center.
The NASA Short-term Prediction Research and Transition (SPoRT) Center runs the Alaska LIS (LIS-AK), a near-real-time version of the Noah land surface model at 0.03 degree resolution utilizing the NASA Land Information System (LIS) software. The model input is the Global Data Assimilation (GDAS) forcing dataset, which is a near-real-time analysis of various observational data (ground, radar, satellite) consisting of surface meteorology (temperature, humidity, pressure, winds, precipitation) and downwelling long- and short-wave radiation. Within LIS, the Noah model is forced by this input data and produces analyses of soil temperature and moisture in 4 layers plus the snow state and fluxes of energy and water at the surface.
RSM provides a measure of the soil saturation without having to consider the variation in soil type. RSM is analogous to relative humidity for air saturation. Thus, RSM provides an easy measure of the level of saturation as opposed to a volumetric value where the differing amounts of space between soil particles causes inconsistent volumetric maxima per soil type. The water in the soil can be in liquid or frozen form.
The near-surface layer responds quickly to heavy rainfall and indicates near-saturated conditions conducive to significant runoff and river flooding, while the deeper column layers represent longer-term water storage via infiltration from upper layers. These values can also be used as fire risk indicators since vegetation water is dependent on soil moisture, and the near-surface layer can be a proxy for moisture in surface fuels (duff or litter).
The Image Service is published using a Raster Mosaic populated with GeoTiffs collected from a SPoRT FTP site daily.
Data Visualization:
Relative Soil Moisture (RSM) is shown using a Classified Color Ramp (Multi-Color, 20-classes). Values represent soil moisture scaled from 0% (wilting point, generally the lowest possible value) to 100% (full saturation) at each grid point.
Limitations:
Inaccuracies in the forcing data will result in inaccuracies in model data. Large portions of the state are data-sparse so the GDAS forcing data, and hence the LIS output, may be subject to larger errors than usual.
Update Frequency:
Daily
Suggested Usage:
Drought assessment, fire risk assessment, potential for flood hazards in periods of snow melt or heavy precipitation. In steep terrain, near-saturated soil moisture can be associated with debris flows.
Further Reference:
NASA SPoRT Land Information System for Alaska - Starter Guide
Learn more about NASA SPoRT program
Name: NRT/lis_ak_rsm_10cm
Description: Background:
Land Information System (LIS) Relative Soil Moisture (RSM) from NASA’s SPoRT Center.
The NASA Short-term Prediction Research and Transition (SPoRT) Center runs the Alaska LIS (LIS-AK), a near-real-time version of the Noah land surface model at 0.03 degree resolution utilizing the NASA Land Information System (LIS) software. The model input is the Global Data Assimilation (GDAS) forcing dataset, which is a near-real-time analysis of various observational data (ground, radar, satellite) consisting of surface meteorology (temperature, humidity, pressure, winds, precipitation) and downwelling long- and short-wave radiation. Within LIS, the Noah model is forced by this input data and produces analyses of soil temperature and moisture in 4 layers plus the snow state and fluxes of energy and water at the surface.
RSM provides a measure of the soil saturation without having to consider the variation in soil type. RSM is analogous to relative humidity for air saturation. Thus, RSM provides an easy measure of the level of saturation as opposed to a volumetric value where the differing amounts of space between soil particles causes inconsistent volumetric maxima per soil type. The water in the soil can be in liquid or frozen form.
The near-surface layer responds quickly to heavy rainfall and indicates near-saturated conditions conducive to significant runoff and river flooding, while the deeper column layers represent longer-term water storage via infiltration from upper layers. These values can also be used as fire risk indicators since vegetation water is dependent on soil moisture, and the near-surface layer can be a proxy for moisture in surface fuels (duff or litter).
The Image Service is published using a Raster Mosaic populated with GeoTiffs collected from a SPoRT FTP site daily.
Data Visualization:
Relative Soil Moisture (RSM) is shown using a Classified Color Ramp (Multi-Color, 20-classes). Values represent soil moisture scaled from 0% (wilting point, generally the lowest possible value) to 100% (full saturation) at each grid point.
Limitations:
Inaccuracies in the forcing data will result in inaccuracies in model data. Large portions of the state are data-sparse so the GDAS forcing data, and hence the LIS output, may be subject to larger errors than usual.
Update Frequency:
Daily
Suggested Usage:
Drought assessment, fire risk assessment, potential for flood hazards in periods of snow melt or heavy precipitation. In steep terrain, near-saturated soil moisture can be associated with debris flows.
Further Reference:
NASA SPoRT Land Information System for Alaska - Starter Guide
Learn more about NASA SPoRT program
Single Fused Map Cache: false
Extent:
XMin: -168.001
YMin: 54.77999999999999
XMax: -129.99099999999999
YMax: 71.1
Spatial Reference: 4326
(4326)
Initial Extent:
XMin: -168.001
YMin: 54.77999999999999
XMax: -129.99099999999999
YMax: 71.1
Spatial Reference: 4326
(4326)
Full Extent:
XMin: -168.001
YMin: 54.77999999999999
XMax: -129.99099999999999
YMax: 71.1
Spatial Reference: 4326
(4326)
Time Info:
Start Time Field: Date
End Time Field: null
Time Extent:
[2025/10/16 00:00:00 UTC, 2025/10/22 00:00:00 UTC]
Time Reference:
N/A
Pixel Size X: 0.030000000000000016
Pixel Size Y: 0.030000000000000013
Band Count: 1
Pixel Type: F64
RasterFunction Infos: {"rasterFunctionInfos": [
{
"name": "lis_rsm",
"description": "A raster function template.",
"help": ""
},
{
"name": "None",
"description": "Make a Raster or Raster Dataset into a Function Raster Dataset.",
"help": ""
}
]}
Mensuration Capabilities: Basic
Has Histograms: true
Has Colormap: false
Has Multi Dimensions : false
Rendering Rule:
Min Scale: 0
Max Scale: 0
Copyright Text: NASA, MSFC SPoRT Center
Service Data Type: esriImageServiceDataTypeGeneric
Min Values: 17.07527941837907
Max Values: 9979.470703125
Mean Values: 911.8400724608753
Standard Deviation Values: 1876.5938015538218
Object ID Field: OBJECTID
Fields:
-
OBJECTID
(
type: esriFieldTypeOID, alias: OBJECTID
)
-
Shape
(
type: esriFieldTypeGeometry, alias: Shape
)
-
Name
(
type: esriFieldTypeString, alias: Name, length: 200
)
-
MinPS
(
type: esriFieldTypeDouble, alias: MinPS
)
-
MaxPS
(
type: esriFieldTypeDouble, alias: MaxPS
)
-
LowPS
(
type: esriFieldTypeDouble, alias: LowPS
)
-
HighPS
(
type: esriFieldTypeDouble, alias: HighPS
)
-
Category
(
type: esriFieldTypeInteger, alias: Category
, Coded Values:
[0: Unknown]
, [1: Primary]
, [2: Overview]
, ...6 more...
)
-
Tag
(
type: esriFieldTypeString, alias: Tag, length: 100
)
-
GroupName
(
type: esriFieldTypeString, alias: GroupName, length: 100
)
-
ProductName
(
type: esriFieldTypeString, alias: ProductName, length: 100
)
-
CenterX
(
type: esriFieldTypeDouble, alias: CenterX
)
-
CenterY
(
type: esriFieldTypeDouble, alias: CenterY
)
-
ZOrder
(
type: esriFieldTypeInteger, alias: ZOrder
)
-
DateTXT
(
type: esriFieldTypeString, alias: DateTXT, length: 50
)
-
Date
(
type: esriFieldTypeDate, alias: Date, length: 8
)
-
Shape_Length
(
type: esriFieldTypeDouble, alias: Shape_Length
)
-
Shape_Area
(
type: esriFieldTypeDouble, alias: Shape_Area
)
Default Mosaic Method: Center
Allowed Mosaic Methods: Center,NorthWest,LockRaster,ByAttribute,Nadir,Viewpoint,Seamline,None
SortField:
SortValue: null
Mosaic Operator: First
Default Compression Quality: 75
Default Resampling Method: Nearest
Max Record Count: 1000
Max Image Height: 4100
Max Image Width: 15000
Max Download Image Count: 20
Max Mosaic Image Count: 20
Allow Raster Function: true
Allow Copy: true
Allow Analysis: true
Allow Compute TiePoints: false
Supports Statistics: true
Supports Advanced Queries: true
Use StandardizedQueries: true
Raster Type Infos:
Name: Raster Dataset
Description: Supports all ArcGIS Raster Datasets
Help:
Has Raster Attribute Table: false
Edit Fields Info: null
Ownership Based AccessControl For Rasters: null
Child Resources:
Info
Histograms
Statistics
Key Properties
Legend
Raster Function Infos
Supported Operations:
Export Image
Query
Identify
Measure
Compute Histograms
Compute Statistics Histograms
Get Samples
Compute Class Statistics
Query Boundary
Compute Pixel Location
Compute Angles
Validate
Project