View In:
ArcGIS JavaScript
ArcGIS Online Map Viewer
ArcGIS Earth
ArcMap
View Footprint In:
ArcGIS Online Map Viewer
Service Description: The ARIA data system triggered on the M7.2 earthquake in Oaxaca, Mexico on 2/16/2108 and processed the Copernicus Sentinel-1 data acquired to 2/17/2018 automatically.The pattern of contours is consistent with slip on the main subduction megathrust directly beneath the coast. This shows how the preliminary USGS epicenters are biased about 30 km to the northeast in this area, similar to what foundings for the M6.1 Ixtepec Earthquake in Oaxaca last September.
Name: Oaxaca_Earthquake_18/ARIA_Interferogram_Oaxaca_Earthquake
Description: The ARIA data system triggered on the M7.2 earthquake in Oaxaca, Mexico on 2/16/2108 and processed the Copernicus Sentinel-1 data acquired to 2/17/2018 automatically.The pattern of contours is consistent with slip on the main subduction megathrust directly beneath the coast. This shows how the preliminary USGS epicenters are biased about 30 km to the northeast in this area, similar to what foundings for the M6.1 Ixtepec Earthquake in Oaxaca last September.
Single Fused Map Cache: false
Extent:
XMin: -99.11740422679996
YMin: 15.486217862520618
XMax: -96.05270022679996
YMax: 19.23104186252062
Spatial Reference: 4326
(4326)
Initial Extent:
XMin: -99.11740422679996
YMin: 15.486217862520618
XMax: -96.05270022679996
YMax: 19.23104186252062
Spatial Reference: 4326
(4326)
Full Extent:
XMin: -99.11740422679996
YMin: 15.486217862520618
XMax: -96.05270022679996
YMax: 19.23104186252062
Spatial Reference: 4326
(4326)
Pixel Size X: 3.470000000000007E-4
Pixel Size Y: 3.4700000000000014E-4
Band Count: 4
Pixel Type: U16
RasterFunction Infos: {"rasterFunctionInfos": [
{
"name": "None",
"description": "Make a Raster or Raster Dataset into a Function Raster Dataset.",
"help": ""
},
{
"name": "RGB Composite",
"description": "A raster function template.",
"help": ""
}
]}
Mensuration Capabilities: Basic
Has Histograms: true
Has Colormap: false
Has Multi Dimensions : false
Rendering Rule:
Min Scale: 0
Max Scale: 0
Copyright Text: ARIA/JPL-Caltech/NASA
Service Data Type: esriImageServiceDataTypeGeneric
Min Values: 0, 0, 0, 0
Max Values: 255, 255, 255, 255
Mean Values: 77.113726589118, 77.467144462401, 73.653637821678, 159.23891872331
Standard Deviation Values: 88.622774708592, 88.593838726834, 85.720947913067, 123.48640086381
Object ID Field:
Fields:
None
Default Mosaic Method: Center
Allowed Mosaic Methods:
SortField:
SortValue: null
Mosaic Operator: First
Default Compression Quality: 75
Default Resampling Method: Bilinear
Max Record Count: null
Max Image Height: 4100
Max Image Width: 15000
Max Download Image Count: null
Max Mosaic Image Count: null
Allow Raster Function: true
Allow Copy: true
Allow Analysis: true
Allow Compute TiePoints: false
Supports Statistics: false
Supports Advanced Queries: false
Use StandardizedQueries: true
Raster Type Infos:
Name: Raster Dataset
Description: Supports all ArcGIS Raster Datasets
Help:
Has Raster Attribute Table: false
Edit Fields Info: null
Ownership Based AccessControl For Rasters: null
Child Resources:
Info
Histograms
Statistics
Key Properties
Legend
Raster Function Infos
Supported Operations:
Export Image
Identify
Measure
Compute Histograms
Compute Statistics Histograms
Get Samples
Compute Class Statistics
Query Boundary
Compute Pixel Location
Compute Angles
Validate
Project