View In:
ArcGIS JavaScript
ArcGIS Online Map Viewer
ArcGIS Earth
ArcMap
View Footprint In:
ArcGIS Online Map Viewer
Service Description: Summary:The Advanced Rapid Imaging and Analysis (ARIA) team at NASA's Jet Propulsion Laboratory and California Institute of Technology, both in Pasadena, California, created this coseismic Interferometric Synthetic Aperture Radar (InSAR) map that shows surface displacement (wrapped interferogram) caused by the recent major earthquakes in California, including the M6.4 (July 4, 2019) and the M7.1 (July 5, 2019) events.The interferogram is derived from synthetic aperture radar (SAR) images from the ALOS-2 satellite, operated by the Japan Aerospace Exploration Agency (JAXA). The images were taken before (April 16, 2018) and after (July 8, 2019) the sequence of earthquakes. Each color cycle represents 11.45 cm (4.5 inches) of ground displacement in the radar line-of-sight (LOS, 28 degrees from vertical and roughly east). The image covers an area of 50 by 125 kilometers (31 by 78 miles), and each pixel measures about 90 meters across. No filter was applied during the processing. The linear features that cut the color fringes in the southeast indicate likely locations of surface rupture caused by the earthquakes, and the noisy areas in the northwest may indicate locations where ground surface was disturbed by the earthquakes.Suggested Use:Each color cycle (ie. red to red) represents 4.5 inches of ground movement. The ground has moved more in areas where the color contour lines are closer together. Satellite/Sensor:Resolution: 30 metersCredits:Contains modified JAXA ALOS-2 data (2019) processed by NASA-JPL/Caltech ARIA Team, JAXAFor more information about ARIA, visit: http://aria.jpl.nasa.govESRI REST Endpoint:See URL on Right Side of the PageWMS Endpoint:
Credits:
NASA, JPL-Caltech, ARIA Product, JAXA
Name: ca_earthquake_072019/aria_interferogram_20190708
Description: Summary:The Advanced Rapid Imaging and Analysis (ARIA) team at NASA's Jet Propulsion Laboratory and California Institute of Technology, both in Pasadena, California, created this coseismic Interferometric Synthetic Aperture Radar (InSAR) map that shows surface displacement (wrapped interferogram) caused by the recent major earthquakes in California, including the M6.4 (July 4, 2019) and the M7.1 (July 5, 2019) events.The interferogram is derived from synthetic aperture radar (SAR) images from the ALOS-2 satellite, operated by the Japan Aerospace Exploration Agency (JAXA). The images were taken before (April 16, 2018) and after (July 8, 2019) the sequence of earthquakes. Each color cycle represents 11.45 cm (4.5 inches) of ground displacement in the radar line-of-sight (LOS, 28 degrees from vertical and roughly east). The image covers an area of 50 by 125 kilometers (31 by 78 miles), and each pixel measures about 90 meters across. No filter was applied during the processing. The linear features that cut the color fringes in the southeast indicate likely locations of surface rupture caused by the earthquakes, and the noisy areas in the northwest may indicate locations where ground surface was disturbed by the earthquakes.Suggested Use:Each color cycle (ie. red to red) represents 4.5 inches of ground movement. The ground has moved more in areas where the color contour lines are closer together. Satellite/Sensor:Resolution: 30 metersCredits:Contains modified JAXA ALOS-2 data (2019) processed by NASA-JPL/Caltech ARIA Team, JAXAFor more information about ARIA, visit: http://aria.jpl.nasa.govESRI REST Endpoint:See URL on Right Side of the PageWMS Endpoint:
Credits:
NASA, JPL-Caltech, ARIA Product, JAXA
Single Fused Map Cache: false
Extent:
XMin: -117.8987171
YMin: 34.9960499
XMax: -117.0987171
YMax: 36.1860499
Spatial Reference: 4326
(4326)
Initial Extent:
XMin: -117.8987171
YMin: 34.9960499
XMax: -117.0987171
YMax: 36.1860499
Spatial Reference: 4326
(4326)
Full Extent:
XMin: -117.8987171
YMin: 34.9960499
XMax: -117.0987171
YMax: 36.1860499
Spatial Reference: 4326
(4326)
Pixel Size X: 8.324661810613914E-4
Pixel Size Y: 8.327501749475142E-4
Band Count: 4
Pixel Type: U8
RasterFunction Infos: {"rasterFunctionInfos": [{
"name": "None",
"description": "",
"help": ""
}]}
Mensuration Capabilities: Basic
Has Histograms: false
Has Colormap: false
Has Multi Dimensions : false
Rendering Rule:
Min Scale: 0
Max Scale: 0
Copyright Text: NASA, JPL-Caltech, ARIA Product, JAXA
Service Data Type: esriImageServiceDataTypeGeneric
Min Values: N/A
Max Values: N/A
Mean Values: N/A
Standard Deviation Values: N/A
Object ID Field:
Fields:
None
Default Mosaic Method: Center
Allowed Mosaic Methods:
SortField:
SortValue: null
Mosaic Operator: First
Default Compression Quality: 75
Default Resampling Method: Bilinear
Max Record Count: null
Max Image Height: 4100
Max Image Width: 15000
Max Download Image Count: null
Max Mosaic Image Count: null
Allow Raster Function: true
Allow Copy: true
Allow Analysis: true
Allow Compute TiePoints: false
Supports Statistics: false
Supports Advanced Queries: false
Use StandardizedQueries: true
Raster Type Infos:
Name: Raster Dataset
Description: Supports all ArcGIS Raster Datasets
Help:
Has Raster Attribute Table: false
Edit Fields Info: null
Ownership Based AccessControl For Rasters: null
Child Resources:
Info
Statistics
Key Properties
Legend
Raster Function Infos
Supported Operations:
Export Image
Identify
Measure
Compute Histograms
Compute Statistics Histograms
Get Samples
Compute Class Statistics
Query Boundary
Compute Pixel Location
Compute Angles
Validate
Project