View In:
ArcGIS JavaScript
ArcGIS Online Map Viewer
ArcGIS Earth
ArcMap
View Footprint In:
ArcGIS Online Map Viewer
Service Description: Summary:
The Advanced Rapid Imaging and Analysis (ARIA) data system at NASA's Jet Propulsion Laboratory in Pasadena, California, automatically processed this interferogram or difference between two radar images. The maps were derived from synthetic aperture radar (SAR) data acquired on July 4 and July 10, 2019 (at 01:50 Universal Time) by the Copernicus Sentinel-1 satellites operated by the European Space Agency (ESA). The map covers an area of 90 by 170 kilometers. The processing averaged the pixels to about 30 meters. The ground deformation measured down or up by the satellite in this map is shown as blue to red. Suggested Use:
This interferogram shows permanent ground movement down or up due to the earthquakes as blue to red.
Satellite/Sensor:
Copernicus Sentinel-1 Sythetic Aperture Radar (SAR)
Resolution: 30 meters; not all of the resolution is maintained by the conversion to KMZ file.
Credits:
Contains modified Copernicus Sentinel data, processed by ESA. Analyzed by the NASA-JPL/Caltech ARIA team. This task was carried out at JPL funded by NASA.
ESRI REST Endpoint:
See URL on Right Side of the Page
WMS Endpoint:
https://maps.disasters.nasa.gov/ags03/services/ca_earthquake_072019/aria_s1_unwrappedinterferogram_20190710/ImageServer/WMSServer
Name: ca_earthquake_072019/aria_s1_unwrappedinterferogram_20190710
Description: Summary:
The Advanced Rapid Imaging and Analysis (ARIA) data system at NASA's Jet Propulsion Laboratory in Pasadena, California, automatically processed this interferogram or difference between two radar images. The maps were derived from synthetic aperture radar (SAR) data acquired on July 4 and July 10, 2019 (at 01:50 Universal Time) by the Copernicus Sentinel-1 satellites operated by the European Space Agency (ESA). The map covers an area of 90 by 170 kilometers. The processing averaged the pixels to about 30 meters. The ground deformation measured down or up by the satellite in this map is shown as blue to red. Suggested Use:
This interferogram shows permanent ground movement down or up due to the earthquakes as blue to red.
Satellite/Sensor:
Copernicus Sentinel-1 Sythetic Aperture Radar (SAR)
Resolution: 30 meters; not all of the resolution is maintained by the conversion to KMZ file.
Credits:
Contains modified Copernicus Sentinel data, processed by ESA. Analyzed by the NASA-JPL/Caltech ARIA team. This task was carried out at JPL funded by NASA.
ESRI REST Endpoint:
See URL on Right Side of the Page
WMS Endpoint:
https://maps.disasters.nasa.gov/ags03/services/ca_earthquake_072019/aria_s1_unwrappedinterferogram_20190710/ImageServer/WMSServer
Single Fused Map Cache: false
Extent:
XMin: -119.465
YMin: 33.843333333333334
XMax: -116.01833333333333
YMax: 36.885
Spatial Reference: 4326
(4326)
Initial Extent:
XMin: -119.465
YMin: 33.843333333333334
XMax: -116.01833333333333
YMax: 36.885
Spatial Reference: 4326
(4326)
Full Extent:
XMin: -119.465
YMin: 33.843333333333334
XMax: -116.01833333333333
YMax: 36.885
Spatial Reference: 4326
(4326)
Pixel Size X: 8.333333333333348E-4
Pixel Size Y: 8.333333333333327E-4
Band Count: 1
Pixel Type: F32
RasterFunction Infos: {"rasterFunctionInfos": [
{
"name": "aria_interferogram_unwrapped_caearthquake2019",
"description": "A raster function template.",
"help": ""
},
{
"name": "None",
"description": "",
"help": ""
}
]}
Mensuration Capabilities: Basic
Has Histograms: false
Has Colormap: false
Has Multi Dimensions : false
Rendering Rule:
Min Scale: 0
Max Scale: 0
Copyright Text: NASA, NASA-JPL/Caltech, Copernicus Sentinel-1
Service Data Type: esriImageServiceDataTypeGeneric
Min Values: N/A
Max Values: N/A
Mean Values: N/A
Standard Deviation Values: N/A
Object ID Field:
Fields:
None
Default Mosaic Method: Center
Allowed Mosaic Methods:
SortField:
SortValue: null
Mosaic Operator: First
Default Compression Quality: 75
Default Resampling Method: Bilinear
Max Record Count: null
Max Image Height: 4100
Max Image Width: 15000
Max Download Image Count: null
Max Mosaic Image Count: null
Allow Raster Function: true
Allow Copy: true
Allow Analysis: true
Allow Compute TiePoints: false
Supports Statistics: false
Supports Advanced Queries: false
Use StandardizedQueries: true
Raster Type Infos:
Name: Raster Dataset
Description: Supports all ArcGIS Raster Datasets
Help:
Has Raster Attribute Table: false
Edit Fields Info: null
Ownership Based AccessControl For Rasters: null
Child Resources:
Info
Statistics
Key Properties
Legend
Raster Function Infos
Supported Operations:
Export Image
Identify
Measure
Compute Histograms
Compute Statistics Histograms
Get Samples
Compute Class Statistics
Query Boundary
Compute Pixel Location
Compute Angles
Validate
Project