View In:
  ArcGIS JavaScript
  ArcGIS Online Map Viewer
  ArcGIS Earth
  ArcMap
View Footprint In:
  ArcGIS Online Map Viewer
Service Description:  Date of Imagery: 3/4/2019
Next Potential Update: None
Summary: Using data from the Copernicus Sentinel-1 satellites, scientists are able to create maps of the extent of water due to the effects of the atmospheric river and resulting flooding in Northern California. The synthetic aperture radar (SAR) aboard Sentinel-1 allows for the detection of water on the surface when clouds are present as well as during the night time hours. The images were taken before (February 26, 2019) and after (March 4, 2019) the flooding event.
Suggested Usage: Likely flooded areas are shown in light blue. This product should be used as guidance to identify areas that are potentially flooded and may contain false positives over agricultural areas.
Satellite/Sensor: Synthetic Aperture Radar (SAR) from Copernicus Sentinel-1 operated by the European Space Agency (ESA); 10 meter resolution
Credits: Sentinel data used in this derived product, contains modified Copernicus Sentinel data (2019), processed by ESA and analyzed by NASA-Goddard Space Flight Center.
Name:  ca_flooding_201902/sentinel1_water_extent_20190226_20190304
Description:  Date of Imagery: 3/4/2019
Next Potential Update: None
Summary: Using data from the Copernicus Sentinel-1 satellites, scientists are able to create maps of the extent of water due to the effects of the atmospheric river and resulting flooding in Northern California. The synthetic aperture radar (SAR) aboard Sentinel-1 allows for the detection of water on the surface when clouds are present as well as during the night time hours. The images were taken before (February 26, 2019) and after (March 4, 2019) the flooding event.
Suggested Usage: Likely flooded areas are shown in light blue. This product should be used as guidance to identify areas that are potentially flooded and may contain false positives over agricultural areas.
Satellite/Sensor: Synthetic Aperture Radar (SAR) from Copernicus Sentinel-1 operated by the European Space Agency (ESA); 10 meter resolution
Credits: Sentinel data used in this derived product, contains modified Copernicus Sentinel data (2019), processed by ESA and analyzed by NASA-Goddard Space Flight Center.
Single Fused Map Cache:  false
Extent: 
XMin: -123.91571555559513
YMin: 37.99904953408117
XMax: -121.07128768899422
YMax: 39.65770024558064
Spatial Reference: 4326
 (4326)
Initial Extent:
XMin: -123.91571555559513
YMin: 37.99904953408117
XMax: -121.07128768899422
YMax: 39.65770024558064
Spatial Reference: 4326
 (4326)
Full Extent:
XMin: -123.91571555559513
YMin: 37.99904953408117
XMax: -121.07128768899422
YMax: 39.65770024558064
Spatial Reference: 4326
 (4326)
Pixel Size X: 8.983160265920002E-5
Pixel Size Y:  8.98316026592E-5
Band Count: 1
Pixel Type: U8
RasterFunction Infos:  {"rasterFunctionInfos": [
 {
  "name": "gsfc_water_extent",
  "description": "A raster function template.",
  "help": ""
 },
 {
  "name": "None",
  "description": "",
  "help": ""
 }
]}
Mensuration Capabilities: Basic
Has Histograms:  true
Has Colormap:  false
Has Multi Dimensions :  false
Rendering Rule: 
Min Scale:  0
Max Scale:  0
Copyright Text:  NASA-GSFC, ESA Copernicus
Service Data Type:  esriImageServiceDataTypeGeneric
Min Values:  0
Max Values:  3
Mean Values:  0.10010217504237
Standard Deviation Values:  0.53878203401316
Object ID Field:  
Fields: 
None
Default Mosaic Method:  Center
Allowed Mosaic Methods:  
SortField:  
SortValue:  null
Mosaic Operator:  First
Default Compression Quality:  75
Default Resampling Method:  Nearest
Max Record Count:  null
Max Image Height:  4100
Max Image Width:  15000
Max Download Image Count:  null
Max Mosaic Image Count:  null
Allow Raster Function:  true
Allow Copy:  true
Allow Analysis:  true
Allow Compute TiePoints:  false
Supports Statistics:  false
Supports Advanced Queries:  false
Use StandardizedQueries:  true
Raster Type Infos: 
Name: Raster Dataset
Description: Supports all ArcGIS Raster Datasets
Help: 
Has Raster Attribute Table: true
Edit Fields Info:  null
Ownership Based AccessControl For Rasters:  null
Child Resources:
  
Info
  Raster Attribute Table
  Histograms
  Statistics
  Key Properties
  Legend
  Raster Function Infos
Supported Operations:
  
Export Image
  Identify
  Measure
  Compute Histograms
  Compute Statistics Histograms
  Get Samples
  Compute Class Statistics
  Query Boundary
  Compute Pixel Location
  Compute Angles
  Validate
  Project