View In:
ArcGIS JavaScript
ArcGIS Online Map Viewer
ArcGIS Earth
ArcMap
View Footprint In:
ArcGIS Online Map Viewer
Service Description: Date of Image: 3/16/2019
Date of Next Image:
Unknown
Purpose/Summary: The Advanced Rapid Imaging and Analysis (ARIA) team at NASA's Jet Propulsion Laboratory in Pasadena, California, created this Flood Proxy Map depicting areas of Mozambique that are likely flooded as a result of Cyclone Idai, shown by light blue pixels. The map is derived from synthetic aperture radar (SAR) images from the Advanced Land Observing Satellite 2 (ALOS-2) satellite, operated by the Japan Aerospace Exploration Agency (JAXA). The images were taken before (February 2, 2019) and during the flooding (March 16, 2019). Suggested Use: Potentially flooded areas are shown in light blue. This flood proxy map should be used as guidance to identify areas that are likely flooded, and may be less reliable over urban and vegetated areas. Note: There may be location shift for higher topography, as the map was derived from SAR images registered to an ellipsoidal earth model. Satellite/Sensor:
Synthetic aperture radar (SAR) from the Advanced Land Observing Satellite 2 (ALOS-2) satellite operated by the Japan Aerospace Exploration Agency (JAXA); 25m resolution
Credits:
Original Data provided by JAXA. Analyzed by the NASA-JPL/Caltech ARIA team. This research was carried out at JPL funded by NASA Disasters Program. For more information about ARIA, visit: http://aria.jpl.nasa.gov
Name: cyclone_idai_2019/alos2_ariafpm_20190316
Description: Date of Image: 3/16/2019
Date of Next Image:
Unknown
Purpose/Summary: The Advanced Rapid Imaging and Analysis (ARIA) team at NASA's Jet Propulsion Laboratory in Pasadena, California, created this Flood Proxy Map depicting areas of Mozambique that are likely flooded as a result of Cyclone Idai, shown by light blue pixels. The map is derived from synthetic aperture radar (SAR) images from the Advanced Land Observing Satellite 2 (ALOS-2) satellite, operated by the Japan Aerospace Exploration Agency (JAXA). The images were taken before (February 2, 2019) and during the flooding (March 16, 2019). Suggested Use: Potentially flooded areas are shown in light blue. This flood proxy map should be used as guidance to identify areas that are likely flooded, and may be less reliable over urban and vegetated areas. Note: There may be location shift for higher topography, as the map was derived from SAR images registered to an ellipsoidal earth model. Satellite/Sensor:
Synthetic aperture radar (SAR) from the Advanced Land Observing Satellite 2 (ALOS-2) satellite operated by the Japan Aerospace Exploration Agency (JAXA); 25m resolution
Credits:
Original Data provided by JAXA. Analyzed by the NASA-JPL/Caltech ARIA team. This research was carried out at JPL funded by NASA Disasters Program. For more information about ARIA, visit: http://aria.jpl.nasa.gov
Single Fused Map Cache: false
Extent:
XMin: 30.5769081
YMin: -20.9780635
XMax: 34.7156743
YMax: -17.0510834
Spatial Reference: 4326
(4326)
Initial Extent:
XMin: 30.5769081
YMin: -20.9780635
XMax: 34.7156743
YMax: -17.0510834
Spatial Reference: 4326
(4326)
Full Extent:
XMin: 30.5769081
YMin: -20.9780635
XMax: 34.7156743
YMax: -17.0510834
Spatial Reference: 4326
(4326)
Pixel Size X: 2.292056377028301E-4
Pixel Size Y: 2.292056324052998E-4
Band Count: 3
Pixel Type: U8
RasterFunction Infos: {"rasterFunctionInfos": [{
"name": "None",
"description": "",
"help": ""
}]}
Mensuration Capabilities: Basic
Has Histograms: false
Has Colormap: false
Has Multi Dimensions : false
Rendering Rule:
Min Scale: 0
Max Scale: 0
Copyright Text: NASA-JPL/Caltech Aria Team, JAXA
Service Data Type: esriImageServiceDataTypeThematic
Min Values: N/A
Max Values: N/A
Mean Values: N/A
Standard Deviation Values: N/A
Object ID Field:
Fields:
None
Default Mosaic Method: Center
Allowed Mosaic Methods:
SortField:
SortValue: null
Mosaic Operator: First
Default Compression Quality: 75
Default Resampling Method: Nearest
Max Record Count: null
Max Image Height: 4100
Max Image Width: 15000
Max Download Image Count: null
Max Mosaic Image Count: null
Allow Raster Function: true
Allow Copy: true
Allow Analysis: true
Allow Compute TiePoints: false
Supports Statistics: false
Supports Advanced Queries: false
Use StandardizedQueries: true
Raster Type Infos:
Name: Raster Dataset
Description: Supports all ArcGIS Raster Datasets
Help:
Has Raster Attribute Table: false
Edit Fields Info: null
Ownership Based AccessControl For Rasters: null
Child Resources:
Info
Statistics
Key Properties
Legend
Raster Function Infos
Supported Operations:
Export Image
Identify
Measure
Compute Histograms
Compute Statistics Histograms
Get Samples
Compute Class Statistics
Query Boundary
Compute Pixel Location
Compute Angles
Validate
Project