View In:
  ArcGIS JavaScript
  ArcGIS Online Map Viewer
  ArcGIS Earth
  ArcMap
View Footprint In:
  ArcGIS Online Map Viewer
Service Description:  Date of Image:
3/2/2019; 3/5/2019; 3/8/2019; 3/11/2019; 3/14/2019; 3/17/2019; 3/20/2019; 3/23/2019
Date of Next Image:
Unknown
Purpose/Summary:
The NASA-USDA SMAP Global soil moisture data provides soil moisture information across the globe. Monitoring soil mositure can help identify where flooding has occurred due to Cyclone Idai and what areas may be more prone to flooding if future rainfall occurs. This time-enabled dataset shows the evolution of the soil moisture leading up to and after the landfall of the cyclone.
Suggested Use:
High values in blue and green show more saturated (wetter) soil.
Low values in orange and brown show drier soil.
Areas with increased soil moisture may have been flooded during the event, and are generally more prone to flooding if more rain occurs.
Satellite/Sensor:
The data set is generated by integrating satellite-derived Soil Moisture Active Passive (SMAP) Level 3 soil moisture observations into the modified two-layer Palmer model using a 1-D Ensemble Kalman Filter (EnKF) data assimilation approach.
SMAP L-Band Radiometer; 0.25x0.25 degree resolution
Credits:
Reichle, R., G. De Lannoy, R. D. Koster, W. T. Crow, J. S. Kimball, and Q. Liu. 2018. SMAP L4 Global 3-hourly 9 km EASE-Grid Surface and Root Zone Soil Moisture Analysis Update, Version 4. Root Zone Soil Moisture. Boulder, Colorado USA. NASA National Snow and Ice Data Center Distributed Active Archive Center. doi: https://doi.org/10.5067/60HB8VIP2T8W. March 28, 2019.
 cyclone_idai_2019/smap_sm_profile
Description:  Date of Image:
3/2/2019; 3/5/2019; 3/8/2019; 3/11/2019; 3/14/2019; 3/17/2019; 3/20/2019; 3/23/2019
Date of Next Image:
Unknown
Purpose/Summary:
The NASA-USDA SMAP Global soil moisture data provides soil moisture information across the globe. Monitoring soil mositure can help identify where flooding has occurred due to Cyclone Idai and what areas may be more prone to flooding if future rainfall occurs. This time-enabled dataset shows the evolution of the soil moisture leading up to and after the landfall of the cyclone.
Suggested Use:
High values in blue and green show more saturated (wetter) soil.
Low values in orange and brown show drier soil.
Areas with increased soil moisture may have been flooded during the event, and are generally more prone to flooding if more rain occurs.
Satellite/Sensor:
The data set is generated by integrating satellite-derived Soil Moisture Active Passive (SMAP) Level 3 soil moisture observations into the modified two-layer Palmer model using a 1-D Ensemble Kalman Filter (EnKF) data assimilation approach.
SMAP L-Band Radiometer; 0.25x0.25 degree resolution
Credits:
Reichle, R., G. De Lannoy, R. D. Koster, W. T. Crow, J. S. Kimball, and Q. Liu. 2018. SMAP L4 Global 3-hourly 9 km EASE-Grid Surface and Root Zone Soil Moisture Analysis Update, Version 4. Root Zone Soil Moisture. Boulder, Colorado USA. NASA National Snow and Ice Data Center Distributed Active Archive Center. doi: https://doi.org/10.5067/60HB8VIP2T8W. March 28, 2019.
 false
Extent: 
XMin: 2273267.0518000014
YMin: -3363692.4071755605
XMax: 4944934.830838567
YMax: -1304281.8274999992
Spatial Reference: 102100
 (3857)
Initial Extent:
XMin: 2273267.0518000014
YMin: -3363692.4071755605
XMax: 4944934.830838567
YMax: -1304281.8274999992
Spatial Reference: 102100
 (3857)
Full Extent:
XMin: 2273267.0518000014
YMin: -3363692.4071755605
XMax: 4944934.830838567
YMax: -1304281.8274999992
Spatial Reference: 102100
 (3857)
Time Info:
Start Time Field: Date
End Time Field: Date
Time Extent:
[2019/03/02 12:00:00 UTC, 2019/03/23 12:00:00 UTC]
Time Reference:
N/A
Pixel Size X: 27829.872698318388
Pixel Size Y:  27829.872698318395
Band Count: 1
Pixel Type: F32
RasterFunction Infos:  {"rasterFunctionInfos": [
 {
  "name": "smap_idai",
  "description": "A raster function template.",
  "help": ""
 },
 {
  "name": "None",
  "description": "A No-Op Function.",
  "help": ""
 }
]}
Mensuration Capabilities: Basic
Has Histograms:  true
Has Colormap:  false
Has Multi Dimensions :  false
Rendering Rule: 
Min Scale:  0
Max Scale:  0
Copyright Text:  Reichle, R., G. De Lannoy, R. D. Koster, W. T. Crow, J. S. Kimball, and Q. Liu. 2018. SMAP L4 Global 3-hourly 9 km EASE-Grid Surface and Root Zone Soil Moisture Analysis Update, Version 4. Root Zone Soil Moisture. Boulder, Colorado USA. NASA National Snow and Ice Data Center Distributed Active Archive Center. doi: https://doi.org/10.5067/60HB8VIP2T8W. March 28, 2019.
Service Data Type:  esriImageServiceDataTypeGeneric
Min Values:  0.026915500369796067
Max Values:  0.9981084554819972
Mean Values:  0.42983729195534387
Standard Deviation Values:  0.2863882205232446
Object ID Field:  OBJECTID
Fields: 
- 
OBJECTID
(
type: esriFieldTypeOID, alias: OBJECTID
)
- 
Shape
(
type: esriFieldTypeGeometry, alias: Shape
)
- 
Name
(
type: esriFieldTypeString, alias: Name, length: 200
)
- 
MinPS
(
type: esriFieldTypeDouble, alias: MinPS
)
- 
MaxPS
(
type: esriFieldTypeDouble, alias: MaxPS
)
- 
LowPS
(
type: esriFieldTypeDouble, alias: LowPS
)
- 
HighPS
(
type: esriFieldTypeDouble, alias: HighPS
)
- 
Category
(
type: esriFieldTypeInteger, alias: Category
, Coded Values: 
[0: Unknown]
, [1: Primary]
, [2: Overview]
, ...6 more...
)
- 
Tag
(
type: esriFieldTypeString, alias: Tag, length: 100
)
- 
GroupName
(
type: esriFieldTypeString, alias: GroupName, length: 100
)
- 
ProductName
(
type: esriFieldTypeString, alias: ProductName, length: 100
)
- 
CenterX
(
type: esriFieldTypeDouble, alias: CenterX
)
- 
CenterY
(
type: esriFieldTypeDouble, alias: CenterY
)
- 
ZOrder
(
type: esriFieldTypeInteger, alias: ZOrder
)
- 
Shape_Length
(
type: esriFieldTypeDouble, alias: Shape_Length
)
- 
Shape_Area
(
type: esriFieldTypeDouble, alias: Shape_Area
)
- 
Date
(
type: esriFieldTypeDate, alias: Date, length: 8
)
Default Mosaic Method: Northwest
Allowed Mosaic Methods:  NorthWest,Center,LockRaster,ByAttribute,Nadir,Viewpoint,Seamline,None
SortField:  
SortValue:  null
Mosaic Operator:  First
Default Compression Quality:  75
Default Resampling Method:  Nearest
Max Record Count:  1000
Max Image Height:  4100
Max Image Width:  15000
Max Download Image Count:  20
Max Mosaic Image Count:  20
Allow Raster Function:  true
Allow Copy:  true
Allow Analysis:  true
Allow Compute TiePoints:  false
Supports Statistics:  true
Supports Advanced Queries:  true
Use StandardizedQueries:  true
Raster Type Infos: 
Name: Raster Dataset
Description: Supports all ArcGIS Raster Datasets
Help: 
Has Raster Attribute Table: false
Edit Fields Info:  null
Ownership Based AccessControl For Rasters:  null
Child Resources:
  
Info
  Histograms
  Statistics
  Key Properties
  Legend
  Raster Function Infos
Supported Operations:
  
Export Image
  Query
  Identify
  Measure
  Compute Histograms
  Compute Statistics Histograms
  Get Samples
  Compute Class Statistics
  Query Boundary
  Compute Pixel Location
  Compute Angles
  Validate
  Project