View In:
ArcGIS JavaScript
ArcGIS Online Map Viewer
ArcGIS Earth
ArcMap
View Footprint In:
ArcGIS Online Map Viewer
Service Description: Date of Image:
4/25/2019
Date of Next Image:
Unknown
Summary:
The Advanced Rapid Imaging and Analysis (ARIA) team at NASA's Jet Propulsion Laboratory and California Institute of Technology, both in Pasadena, California, created this Damage Proxy Map (DPM) depicting areas in Northeastern Mozambique, that are likely damaged (shown by red and yellow pixels) as a result of Cyclone Kenneth. The map was derived from synthetic aperture radar (SAR) images from the Copernicus Sentinel-1 satellite, operated by the European Space Agency (ESA). The images were taken before (April 16, 2019) and after (April 28, 2019) the landfall of the cyclone (Category 4) on April 25, 2019.
Suggested Use:
The color variation from yellow to red indicates increasingly more significant ground surface change. This damage proxy map should be used as guidance to identify damaged areas, and may be less reliable over vegetated areas. For example, the scattered single colored pixels over vegetated areas may be false positives, and the lack of colored pixels over vegetated areas does not necessarily mean no damage.
Satellite/Sensor:
Synthetic Aperture Radar (SAR) on European Space Agency's (ESA) Copernicus Sentinel-1A satellite
Resolution: 30 meters
Credits:
Contains modified Copernicus Sentinel data (2019) analyzed by the NASA-JPL/Caltech ARIA team. The DPM was created by the NASA-JPL/Caltech ARIA team in collaboration with the Earth Observatory of Singapore (EOS), and the data were provided by the European Space Agency. The algorithm development was carried out at JPL under a contract with NASA.
For more information about ARIA, visit: http://aria.jpl.nasa.gov
Name: cyclone_kenneth_2019/aria_dpm_20190425
Description: Date of Image:
4/25/2019
Date of Next Image:
Unknown
Summary:
The Advanced Rapid Imaging and Analysis (ARIA) team at NASA's Jet Propulsion Laboratory and California Institute of Technology, both in Pasadena, California, created this Damage Proxy Map (DPM) depicting areas in Northeastern Mozambique, that are likely damaged (shown by red and yellow pixels) as a result of Cyclone Kenneth. The map was derived from synthetic aperture radar (SAR) images from the Copernicus Sentinel-1 satellite, operated by the European Space Agency (ESA). The images were taken before (April 16, 2019) and after (April 28, 2019) the landfall of the cyclone (Category 4) on April 25, 2019.
Suggested Use:
The color variation from yellow to red indicates increasingly more significant ground surface change. This damage proxy map should be used as guidance to identify damaged areas, and may be less reliable over vegetated areas. For example, the scattered single colored pixels over vegetated areas may be false positives, and the lack of colored pixels over vegetated areas does not necessarily mean no damage.
Satellite/Sensor:
Synthetic Aperture Radar (SAR) on European Space Agency's (ESA) Copernicus Sentinel-1A satellite
Resolution: 30 meters
Credits:
Contains modified Copernicus Sentinel data (2019) analyzed by the NASA-JPL/Caltech ARIA team. The DPM was created by the NASA-JPL/Caltech ARIA team in collaboration with the Earth Observatory of Singapore (EOS), and the data were provided by the European Space Agency. The algorithm development was carried out at JPL under a contract with NASA.
For more information about ARIA, visit: http://aria.jpl.nasa.gov
Single Fused Map Cache: false
Extent:
XMin: 4301139.1193
YMin: -1656229.1710009917
XMax: 4595007.087037712
YMax: -1052336.4497999982
Spatial Reference: 102100
(3857)
Initial Extent:
XMin: 4301139.1193
YMin: -1656229.1710009917
XMax: 4595007.087037712
YMax: -1052336.4497999982
Spatial Reference: 102100
(3857)
Full Extent:
XMin: 4301139.1193
YMin: -1656229.1710009917
XMax: 4595007.087037712
YMax: -1052336.4497999982
Spatial Reference: 102100
(3857)
Pixel Size X: 15.461038971837322
Pixel Size Y: 15.461038971837311
Band Count: 4
Pixel Type: U8
RasterFunction Infos: {"rasterFunctionInfos": [
{
"name": "RGB Composite",
"description": "A raster function template.",
"help": ""
},
{
"name": "None",
"description": "",
"help": ""
}
]}
Mensuration Capabilities:
Has Histograms: true
Has Colormap: false
Has Multi Dimensions : false
Rendering Rule:
Min Scale: 0
Max Scale: 0
Copyright Text: Contains modified Copernicus Sentinel data (2019) analyzed by the NASA-JPL/Caltech ARIA team. The DPM was created by the NASA-JPL/Caltech ARIA team in collaboration with the Earth Observatory of Singapore (EOS), and the data were provided by the European Space Agency. The algorithm development was carried out at JPL under a contract with NASA.
Service Data Type: esriImageServiceDataTypeGeneric
Min Values: 137, 1, 1, 153
Max Values: 255, 255, 1, 255
Mean Values: 251.89322166972013, 202.73724155980122, 1, 176.06150222454872
Standard Deviation Values: 13.20685640629336, 78.7998528158691, 0, 20.299115002613465
Object ID Field: OBJECTID
Fields:
-
OBJECTID
(
type: esriFieldTypeOID, alias: OBJECTID
)
-
Shape
(
type: esriFieldTypeGeometry, alias: Shape
)
-
Name
(
type: esriFieldTypeString, alias: Name, length: 200
)
-
MinPS
(
type: esriFieldTypeDouble, alias: MinPS
)
-
MaxPS
(
type: esriFieldTypeDouble, alias: MaxPS
)
-
LowPS
(
type: esriFieldTypeDouble, alias: LowPS
)
-
HighPS
(
type: esriFieldTypeDouble, alias: HighPS
)
-
Category
(
type: esriFieldTypeInteger, alias: Category
, Coded Values:
[0: Unknown]
, [1: Primary]
, [2: Overview]
, ...6 more...
)
-
Tag
(
type: esriFieldTypeString, alias: Tag, length: 100
)
-
GroupName
(
type: esriFieldTypeString, alias: GroupName, length: 100
)
-
ProductName
(
type: esriFieldTypeString, alias: ProductName, length: 100
)
-
CenterX
(
type: esriFieldTypeDouble, alias: CenterX
)
-
CenterY
(
type: esriFieldTypeDouble, alias: CenterY
)
-
ZOrder
(
type: esriFieldTypeInteger, alias: ZOrder
)
-
Shape_Length
(
type: esriFieldTypeDouble, alias: Shape_Length
)
-
Shape_Area
(
type: esriFieldTypeDouble, alias: Shape_Area
)
Default Mosaic Method: Northwest
Allowed Mosaic Methods: NorthWest,Center,LockRaster,ByAttribute,Nadir,Viewpoint,Seamline,None
SortField:
SortValue: null
Mosaic Operator: First
Default Compression Quality: 75
Default Resampling Method: Bilinear
Max Record Count: 1000
Max Image Height: 4100
Max Image Width: 15000
Max Download Image Count: 20
Max Mosaic Image Count: 20
Allow Raster Function: true
Allow Copy: true
Allow Analysis: true
Allow Compute TiePoints: false
Supports Statistics: true
Supports Advanced Queries: true
Use StandardizedQueries: true
Raster Type Infos:
Name: Raster Dataset
Description: Supports all ArcGIS Raster Datasets
Help:
Has Raster Attribute Table: false
Edit Fields Info: null
Ownership Based AccessControl For Rasters: null
Child Resources:
Info
Histograms
Statistics
Key Properties
Legend
Raster Function Infos
Supported Operations:
Export Image
Identify
Measure
Compute Histograms
Compute Statistics Histograms
Get Samples
Compute Class Statistics
Query Boundary
Compute Pixel Location
Compute Angles
Validate
Project