View In:
ArcGIS JavaScript
ArcGIS Online Map Viewer
ArcGIS Earth
ArcMap
View Footprint In:
ArcGIS Online Map Viewer
Service Description: laos_damnFailure/Sentinel_ALOS_damage_20180726
Name: laos_damnFailure/Sentinel_ALOS_damage_20180726
Description:
Single Fused Map Cache: false
Extent:
XMin: 648083.693350826
YMin: 1617193.077423982
XMax: 706403.693350826
YMax: 1687933.077423982
Spatial Reference: 32648
(32648)
Initial Extent:
XMin: 648083.693350826
YMin: 1617193.077423982
XMax: 706403.693350826
YMax: 1687933.077423982
Spatial Reference: 32648
(32648)
Full Extent:
XMin: 648083.693350826
YMin: 1617193.077423982
XMax: 706403.693350826
YMax: 1687933.077423982
Spatial Reference: 32648
(32648)
Pixel Size X: 90.0
Pixel Size Y: 90.0
Band Count: 1
Pixel Type: F32
RasterFunction Infos: {"rasterFunctionInfos": [
{
"name": "None",
"description": "Make a Raster or Raster Dataset into a Function Raster Dataset.",
"help": ""
},
{
"name": "damage",
"description": "A raster function template.",
"help": ""
}
]}
Mensuration Capabilities: Basic
Has Histograms: false
Has Colormap: false
Has Multi Dimensions : false
Rendering Rule:
Min Scale: 0
Max Scale: 0
Copyright Text:
Service Data Type: esriImageServiceDataTypeGeneric
Min Values: 0
Max Values: 70470
Mean Values: 3986.5785858948
Standard Deviation Values: 6289.7235661018
Object ID Field:
Fields:
None
Default Mosaic Method: Center
Allowed Mosaic Methods:
SortField:
SortValue: null
Mosaic Operator: First
Default Compression Quality: 75
Default Resampling Method: Bilinear
Max Record Count: null
Max Image Height: 4100
Max Image Width: 15000
Max Download Image Count: null
Max Mosaic Image Count: null
Allow Raster Function: true
Allow Copy: true
Allow Analysis: true
Allow Compute TiePoints: false
Supports Statistics: false
Supports Advanced Queries: false
Use StandardizedQueries: true
Raster Type Infos:
Name: Raster Dataset
Description: Supports all ArcGIS Raster Datasets
Help:
Has Raster Attribute Table: false
Edit Fields Info: null
Ownership Based AccessControl For Rasters: null
Child Resources:
Info
Statistics
Key Properties
Legend
Raster Function Infos
Supported Operations:
Export Image
Identify
Measure
Compute Histograms
Compute Statistics Histograms
Get Samples
Compute Class Statistics
Query Boundary
Compute Pixel Location
Compute Angles
Validate
Project