View In:
ArcGIS JavaScript
ArcGIS Online Map Viewer
ArcGIS Earth
ArcMap
View Footprint In:
ArcGIS Online Map Viewer
Service Description: Date of Image: 3/19/2019
Date of Next Image: Unkown
Purpose/Summary:
Using data collected from the European Space Agency's (ESA) Sentinel-1A satellite, scientists at NASA's Marshall Space Flight Center (MSFC) are able to create maps of the extent of water in the aftermath of the flooding in the Midwest United States. The synthetic aperture radar (SAR) aboard Sentinel-1A allows for the detection of water on the surface when clouds are present as well as during the night time hours.
Suggested Usage:
This product shows three areas: known reference water (blue), anomalous water identified outside the known reference water areas (red), and water detected in known wetlands or barren land (tan). This product can be used to perform a change analysis due to the hurricane.
Note: Because these images were acquired during winter, there is a chance that the ground could be covered with snow. If large areas of blue appear over areas of land and now near a water source, there is a chance that snow is present.Satellite/Sensor:
Synthetic Aperture Radar (SAR) on European Space Agency's (ESA) Copernicus Sentinel-1A satellite; 30 m resolution
Credits:
This product contains modified Copernicus Sentinel data (2019), processed by ESA; NASA/MSFC
Name: midwest_flooding_201903/sentinel1a_waterextent_20190319_235730
Description: Date of Image: 3/19/2019
Date of Next Image: Unkown
Purpose/Summary:
Using data collected from the European Space Agency's (ESA) Sentinel-1A satellite, scientists at NASA's Marshall Space Flight Center (MSFC) are able to create maps of the extent of water in the aftermath of the flooding in the Midwest United States. The synthetic aperture radar (SAR) aboard Sentinel-1A allows for the detection of water on the surface when clouds are present as well as during the night time hours.
Suggested Usage:
This product shows three areas: known reference water (blue), anomalous water identified outside the known reference water areas (red), and water detected in known wetlands or barren land (tan). This product can be used to perform a change analysis due to the hurricane.
Note: Because these images were acquired during winter, there is a chance that the ground could be covered with snow. If large areas of blue appear over areas of land and now near a water source, there is a chance that snow is present.Satellite/Sensor:
Synthetic Aperture Radar (SAR) on European Space Agency's (ESA) Copernicus Sentinel-1A satellite; 30 m resolution
Credits:
This product contains modified Copernicus Sentinel data (2019), processed by ESA; NASA/MSFC
Single Fused Map Cache: false
Extent:
XMin: -94.67644101950829
YMin: 31.93711061867893
XMax: -86.91346908450481
YMax: 44.68041761639722
Spatial Reference: 4326
(4326)
Initial Extent:
XMin: -94.67644101950829
YMin: 31.93711061867893
XMax: -86.91346908450481
YMax: 44.68041761639722
Spatial Reference: 4326
(4326)
Full Extent:
XMin: -94.67644101950829
YMin: 31.93711061867893
XMax: -86.91346908450481
YMax: 44.68041761639722
Spatial Reference: 4326
(4326)
Pixel Size X: 3.3425067534998825E-4
Pixel Size Y: 3.34250675349988E-4
Band Count: 1
Pixel Type: U8
RasterFunction Infos: {"rasterFunctionInfos": [
{
"name": "None",
"description": "Make a Raster or Raster Dataset into a Function Raster Dataset.",
"help": ""
},
{
"name": "SARWaterExtentUniqueValuesLegend_las",
"description": "A raster function template.",
"help": ""
}
]}
Mensuration Capabilities: Basic
Has Histograms: true
Has Colormap: false
Has Multi Dimensions : false
Rendering Rule:
Min Scale: 0
Max Scale: 0
Copyright Text: NASA Disasters/MSFC/ASF, ESA Copernicus
Service Data Type: esriImageServiceDataTypeGeneric
Min Values: 0
Max Values: 3
Mean Values: 0.015673537771984
Standard Deviation Values: 0.15435815876466
Object ID Field:
Fields:
None
Default Mosaic Method: Center
Allowed Mosaic Methods:
SortField:
SortValue: null
Mosaic Operator: First
Default Compression Quality: 75
Default Resampling Method: Nearest
Max Record Count: null
Max Image Height: 4100
Max Image Width: 15000
Max Download Image Count: null
Max Mosaic Image Count: null
Allow Raster Function: true
Allow Copy: true
Allow Analysis: true
Allow Compute TiePoints: false
Supports Statistics: false
Supports Advanced Queries: false
Use StandardizedQueries: true
Raster Type Infos:
Name: Raster Dataset
Description: Supports all ArcGIS Raster Datasets
Help:
Has Raster Attribute Table: false
Edit Fields Info: null
Ownership Based AccessControl For Rasters: null
Child Resources:
Info
Histograms
Statistics
Key Properties
Legend
Raster Function Infos
Supported Operations:
Export Image
Identify
Measure
Compute Histograms
Compute Statistics Histograms
Get Samples
Compute Class Statistics
Query Boundary
Compute Pixel Location
Compute Angles
Validate
Project