View In:
ArcGIS JavaScript
ArcGIS Online Map Viewer
ArcGIS Earth
ArcMap
View Footprint In:
ArcGIS Online Map Viewer
Service Description: Date of Imagery: 3/4/2019 Next Potential Update: None Summary: Using data from the Copernicus Sentinel-1 satellites, scientists are able to create maps of the extent of water due to significant decrease of backscattered radar signal over the flood area in Uruguay. The synthetic aperture radar (SAR) aboard Sentinel-1 allows for the detection of water on the surface when clouds are present as well as during the night time hours. The images were taken before (June 6, 2019) and after (June 18, 2019) the flooding event.
Suggested Usage: Likely flooded areas are shown in light blue. This product should be used as guidance to identify areas that are potentially flooded and may contain false positives over agricultural areas. Satellite/Sensor: Synthetic Aperture Radar (SAR) from Copernicus Sentinel-1 operated by the European Space Agency (ESA); 10 meter resolution Credits: Sentinel data used in this derived product, contains modified Copernicus Sentinel data (2019), processed by ESA and analyzed by NASA-Goddard Space Flight Center.
Name: uruguay_floods_201906/sentinel1_waterextent_20190618
Description: Date of Imagery: 3/4/2019 Next Potential Update: None Summary: Using data from the Copernicus Sentinel-1 satellites, scientists are able to create maps of the extent of water due to significant decrease of backscattered radar signal over the flood area in Uruguay. The synthetic aperture radar (SAR) aboard Sentinel-1 allows for the detection of water on the surface when clouds are present as well as during the night time hours. The images were taken before (June 6, 2019) and after (June 18, 2019) the flooding event.
Suggested Usage: Likely flooded areas are shown in light blue. This product should be used as guidance to identify areas that are potentially flooded and may contain false positives over agricultural areas. Satellite/Sensor: Synthetic Aperture Radar (SAR) from Copernicus Sentinel-1 operated by the European Space Agency (ESA); 10 meter resolution Credits: Sentinel data used in this derived product, contains modified Copernicus Sentinel data (2019), processed by ESA and analyzed by NASA-Goddard Space Flight Center.
Single Fused Map Cache: false
Extent:
XMin: -57.04777484232979
YMin: -35.20098636567451
XMax: -53.36353398178382
YMax: -31.60136635438693
Spatial Reference: 4326
(4326)
Initial Extent:
XMin: -57.04777484232979
YMin: -35.20098636567451
XMax: -53.36353398178382
YMax: -31.60136635438693
Spatial Reference: 4326
(4326)
Full Extent:
XMin: -57.04777484232979
YMin: -35.20098636567451
XMax: -53.36353398178382
YMax: -31.60136635438693
Spatial Reference: 4326
(4326)
Pixel Size X: 8.983105016814107E-5
Pixel Size Y: 8.983105016814106E-5
Band Count: 1
Pixel Type: U8
RasterFunction Infos: {"rasterFunctionInfos": [
{
"name": "gsfc_water_extent_201906",
"description": "A raster function template.",
"help": ""
},
{
"name": "None",
"description": "",
"help": ""
}
]}
Mensuration Capabilities: Basic
Has Histograms: true
Has Colormap: false
Has Multi Dimensions : false
Rendering Rule:
Min Scale: 0
Max Scale: 0
Copyright Text: NASA-GSFC, ESA Copernicus
Service Data Type: esriImageServiceDataTypeGeneric
Min Values: 255
Max Values: 255
Mean Values: 255
Standard Deviation Values: 0
Object ID Field:
Fields:
None
Default Mosaic Method: Center
Allowed Mosaic Methods:
SortField:
SortValue: null
Mosaic Operator: First
Default Compression Quality: 75
Default Resampling Method: Bilinear
Max Record Count: null
Max Image Height: 4100
Max Image Width: 15000
Max Download Image Count: null
Max Mosaic Image Count: null
Allow Raster Function: true
Allow Copy: true
Allow Analysis: true
Allow Compute TiePoints: false
Supports Statistics: false
Supports Advanced Queries: false
Use StandardizedQueries: true
Raster Type Infos:
Name: Raster Dataset
Description: Supports all ArcGIS Raster Datasets
Help:
Has Raster Attribute Table: true
Edit Fields Info: null
Ownership Based AccessControl For Rasters: null
Child Resources:
Info
Raster Attribute Table
Histograms
Statistics
Key Properties
Legend
Raster Function Infos
Supported Operations:
Export Image
Identify
Measure
Compute Histograms
Compute Statistics Histograms
Get Samples
Compute Class Statistics
Query Boundary
Compute Pixel Location
Compute Angles
Validate
Project