View In:
ArcGIS JavaScript
ArcGIS Online Map Viewer
ArcGIS Earth
ArcMap
View Footprint In:
ArcGIS Online Map Viewer
Service Description: Date Captured: 8/24/20 Summary: 2D imagery captured by the Multi-Angle Imaging SpectroRadiometer (MISR) instrument on 8/24/20 for the California Fires. We can tell the height of a cloud or smoke plume above Earth’s surface by viewing it from space at different angles. This MISR 2D imagery shows smoke plumes from the fires in California.
Satellite/Sensor: MISR/Terra Resolution: ~1km Credits: These data were captured during Terra orbit 110026. The smoke plume height calculation was performed using the MISR INteractive eXplorer (MINX) software tool, which is publicly available at https://github.com/nasa/MINX. MISR was built and is managed by NASA's Jet Propulsion Laboratory, Pasadena, California, for NASA's Science Mission Directorate, Washington, D.C. The Terra spacecraft is managed by NASA's Goddard Space Flight Center, Greenbelt, Maryland. The MISR data were obtained from the NASA Langley Research Center Atmospheric Science Data Center, Hampton, Virginia. JPL is a division of the California Institute of Technology in Pasadena.
Terms of Use: NASA data and products are freely available to federal, state, public, non-profit and commercial users. This information can be experimental- or research-grade data products and may not be appropriate for operational use. These NASA data products, services, and the Disasters Mapping Portal are intended to aid decision makers and enhance situational awareness, but these data are not guaranteed to be consistently available or routinely updated. Use of this product should include: "Credit: NASA/GSFC/LaRC/JPL-Caltech, MISR Team"
Name: ca_fires_202008/misr_2d_imagery_08242020
Description: Date Captured: 8/24/20 Summary: 2D imagery captured by the Multi-Angle Imaging SpectroRadiometer (MISR) instrument on 8/24/20 for the California Fires. We can tell the height of a cloud or smoke plume above Earth’s surface by viewing it from space at different angles. This MISR 2D imagery shows smoke plumes from the fires in California.
Satellite/Sensor: MISR/Terra Resolution: ~1km Credits: These data were captured during Terra orbit 110026. The smoke plume height calculation was performed using the MISR INteractive eXplorer (MINX) software tool, which is publicly available at https://github.com/nasa/MINX. MISR was built and is managed by NASA's Jet Propulsion Laboratory, Pasadena, California, for NASA's Science Mission Directorate, Washington, D.C. The Terra spacecraft is managed by NASA's Goddard Space Flight Center, Greenbelt, Maryland. The MISR data were obtained from the NASA Langley Research Center Atmospheric Science Data Center, Hampton, Virginia. JPL is a division of the California Institute of Technology in Pasadena.
Terms of Use: NASA data and products are freely available to federal, state, public, non-profit and commercial users. This information can be experimental- or research-grade data products and may not be appropriate for operational use. These NASA data products, services, and the Disasters Mapping Portal are intended to aid decision makers and enhance situational awareness, but these data are not guaranteed to be consistently available or routinely updated. Use of this product should include: "Credit: NASA/GSFC/LaRC/JPL-Caltech, MISR Team"
Single Fused Map Cache: false
Extent:
XMin: 156750
YMin: 3980075
XMax: 777700
YMax: 4748700
Spatial Reference: 32610
(32610)
Initial Extent:
XMin: 156750
YMin: 3980075
XMax: 777700
YMax: 4748700
Spatial Reference: 32610
(32610)
Full Extent:
XMin: 156750
YMin: 3980075
XMax: 777700
YMax: 4748700
Spatial Reference: 32610
(32610)
Pixel Size X: 275.0
Pixel Size Y: 275.0
Band Count: 3
Pixel Type: U8
RasterFunction Infos: {"rasterFunctionInfos": [{
"name": "None",
"description": "",
"help": ""
}]}
Mensuration Capabilities: Basic
Has Histograms: false
Has Colormap: false
Has Multi Dimensions : false
Rendering Rule:
Min Scale: 0
Max Scale: 0
Copyright Text: NASA/GSFC/LaRC/JPL-Caltech, MISR Team
Service Data Type: esriImageServiceDataTypeRGB
Min Values: N/A
Max Values: N/A
Mean Values: N/A
Standard Deviation Values: N/A
Object ID Field:
Fields:
None
Default Mosaic Method: Center
Allowed Mosaic Methods:
SortField:
SortValue: null
Mosaic Operator: First
Default Compression Quality: 75
Default Resampling Method: Bilinear
Max Record Count: null
Max Image Height: 4100
Max Image Width: 15000
Max Download Image Count: null
Max Mosaic Image Count: null
Allow Raster Function: true
Allow Copy: true
Allow Analysis: true
Allow Compute TiePoints: false
Supports Statistics: false
Supports Advanced Queries: false
Use StandardizedQueries: true
Raster Type Infos:
Name: Raster Dataset
Description: Supports all ArcGIS Raster Datasets
Help:
Has Raster Attribute Table: false
Edit Fields Info: null
Ownership Based AccessControl For Rasters: null
Child Resources:
Info
Statistics
Key Properties
Legend
Raster Function Infos
Supported Operations:
Export Image
Identify
Measure
Compute Histograms
Compute Statistics Histograms
Get Samples
Compute Class Statistics
Query Boundary
Compute Pixel Location
Compute Angles
Validate
Project