View In:
ArcGIS JavaScript
ArcGIS Online Map Viewer
ArcGIS Earth
ArcMap
View Footprint In:
ArcGIS Online Map Viewer
Service Description: Summary:
The Advanced Rapid Imaging and Analysis (ARIA) team at NASA's Jet Propulsion Laboratory and California Institute of Technology in Pasadena, California, in collaboration with the Earth Observatory of Singapore (EOS), created this Flood Proxy Map (FPM). Derived from synthetic aperture radar data acquired by the Copernicus Sentinel-1 satellites operated by the European Space Agency (ESA) from October 3rd, 2018 up through April 9th, 2020, after the event. This map should be used as a guidance to identify areas that are likely flooded, and may be less reliable over urban and vegetated areas. Analysed by the ARIA-SG team at the Earth Observatory of Singapore (EOS) in collaboration with NASA-JPL and Caltech. Data processing used an AWS Open Dataset of Copernicus Sentinel-1 data for the Asia region (https://registry.opendata.aws/sentinel1-slc-seasia-pds). Suggested Use:
Likely flooded areas are shown as blue. This FPM should be used as guidance to identify flooded areas, and may be less reliable over vegetated areas and flooded areas.
Satellite/Sensor:
Synthetic Aperture Radar (SAR) from Copernicus Sentinel-1 operated by the European Space Agency (ESA);
30 meter resolution
Credits:
The image contains modified Copernicus Sentinel data (2020), analyzed by the ARIA-SG team at the Earth Observatory of Singapore (EOS) in collaboration with NASA-JPL/Caltech ARIA team. Data processing used an AWS Open Dataset of Copernicus Sentinel-1 data for the Asia region (https://registry.opendata.aws/sentinel1-slc-seasia-pds).
Esri REST Endpoint:
See URL section on right side of page.
WMS Endpoint:
Name: cyclone_harold_2020/aria_fpm_fiji_20200409
Description: Summary:
The Advanced Rapid Imaging and Analysis (ARIA) team at NASA's Jet Propulsion Laboratory and California Institute of Technology in Pasadena, California, in collaboration with the Earth Observatory of Singapore (EOS), created this Flood Proxy Map (FPM). Derived from synthetic aperture radar data acquired by the Copernicus Sentinel-1 satellites operated by the European Space Agency (ESA) from October 3rd, 2018 up through April 9th, 2020, after the event. This map should be used as a guidance to identify areas that are likely flooded, and may be less reliable over urban and vegetated areas. Analysed by the ARIA-SG team at the Earth Observatory of Singapore (EOS) in collaboration with NASA-JPL and Caltech. Data processing used an AWS Open Dataset of Copernicus Sentinel-1 data for the Asia region (https://registry.opendata.aws/sentinel1-slc-seasia-pds). Suggested Use:
Likely flooded areas are shown as blue. This FPM should be used as guidance to identify flooded areas, and may be less reliable over vegetated areas and flooded areas.
Satellite/Sensor:
Synthetic Aperture Radar (SAR) from Copernicus Sentinel-1 operated by the European Space Agency (ESA);
30 meter resolution
Credits:
The image contains modified Copernicus Sentinel data (2020), analyzed by the ARIA-SG team at the Earth Observatory of Singapore (EOS) in collaboration with NASA-JPL/Caltech ARIA team. Data processing used an AWS Open Dataset of Copernicus Sentinel-1 data for the Asia region (https://registry.opendata.aws/sentinel1-slc-seasia-pds).
Esri REST Endpoint:
See URL section on right side of page.
WMS Endpoint:
Single Fused Map Cache: false
Extent:
XMin: 177.40375
YMin: -17.909861111111113
XMax: 177.94986111111112
YMax: -17.399583333333336
Spatial Reference: 4326
(4326)
Initial Extent:
XMin: 177.40375
YMin: -17.909861111111113
XMax: 177.94986111111112
YMax: -17.399583333333336
Spatial Reference: 4326
(4326)
Full Extent:
XMin: 177.40375
YMin: -17.909861111111113
XMax: 177.94986111111112
YMax: -17.399583333333336
Spatial Reference: 4326
(4326)
Pixel Size X: 2.7777777777778054E-4
Pixel Size Y: 2.777777777777772E-4
Band Count: 1
Pixel Type: U1
RasterFunction Infos: {"rasterFunctionInfos": [
{
"name": "aria_fpm_colormap",
"description": "A raster function template.",
"help": ""
},
{
"name": "None",
"description": "",
"help": ""
}
]}
Mensuration Capabilities: Basic
Has Histograms: false
Has Colormap: false
Has Multi Dimensions : false
Rendering Rule:
Min Scale: 0
Max Scale: 0
Copyright Text: ARIA-SG, Earth Observatory of Singapore, NASA-JPL/Caltech ARIA team, ESA
Service Data Type: esriImageServiceDataTypeThematic
Min Values: N/A
Max Values: N/A
Mean Values: N/A
Standard Deviation Values: N/A
Object ID Field:
Fields:
None
Default Mosaic Method: Center
Allowed Mosaic Methods:
SortField:
SortValue: null
Mosaic Operator: First
Default Compression Quality: 75
Default Resampling Method: Bilinear
Max Record Count: null
Max Image Height: 4100
Max Image Width: 15000
Max Download Image Count: null
Max Mosaic Image Count: null
Allow Raster Function: true
Allow Copy: true
Allow Analysis: true
Allow Compute TiePoints: false
Supports Statistics: false
Supports Advanced Queries: false
Use StandardizedQueries: true
Raster Type Infos:
Name: Raster Dataset
Description: Supports all ArcGIS Raster Datasets
Help:
Has Raster Attribute Table: false
Edit Fields Info: null
Ownership Based AccessControl For Rasters: null
Child Resources:
Info
Statistics
Key Properties
Legend
Raster Function Infos
Supported Operations:
Export Image
Identify
Measure
Compute Histograms
Compute Statistics Histograms
Get Samples
Compute Class Statistics
Query Boundary
Compute Pixel Location
Compute Angles
Validate
Project