View In:
ArcGIS JavaScript
ArcGIS Online Map Viewer
ArcGIS Earth
ArcMap
View Footprint In:
ArcGIS Online Map Viewer
Service Description: Date of Images:8/30/19 to 9/4/2019Summary:This image shows the total rainfall from Hurricane Dorian from 8/30/19 to 9/4/19 as captured by The Global Precipitation Measurement (GPM) mission. The Global Precipitation Measurement (GPM) mission is an international network of satellites that provide the next-generation global observations of rain and snow. Suggested Usage:The amount of rainfall is indiciated from blue (less) to red (most) with values ranging from 4.16mm to 1255.05mm (4 feet).
Resolution: .1 Degrees
To learn more about GPM:
https://www.nasa.gov/mission_pages/GPM/main/index.html
Esri REST Endpoint:
See URL Section on right side of page.
WMS Endpoint:
Name: hurricane_dorian_2019/gpm_totalprecip_20190830_20190904
Description: Date of Images:8/30/19 to 9/4/2019Summary:This image shows the total rainfall from Hurricane Dorian from 8/30/19 to 9/4/19 as captured by The Global Precipitation Measurement (GPM) mission. The Global Precipitation Measurement (GPM) mission is an international network of satellites that provide the next-generation global observations of rain and snow. Suggested Usage:The amount of rainfall is indiciated from blue (less) to red (most) with values ranging from 4.16mm to 1255.05mm (4 feet).
Resolution: .1 Degrees
To learn more about GPM:
https://www.nasa.gov/mission_pages/GPM/main/index.html
Esri REST Endpoint:
See URL Section on right side of page.
WMS Endpoint:
Single Fused Map Cache: false
Extent:
XMin: -81.8999984647021
YMin: 23.10000002528383
XMax: -73.69999976377206
YMax: 28.099999233168
Spatial Reference: 4326
(4326)
Initial Extent:
XMin: -81.8999984647021
YMin: 23.10000002528383
XMax: -73.69999976377206
YMax: 28.099999233168
Spatial Reference: 4326
(4326)
Full Extent:
XMin: -81.8999984647021
YMin: 23.10000002528383
XMax: -73.69999976377206
YMax: 28.099999233168
Spatial Reference: 4326
(4326)
Pixel Size X: 0.0999999841576834
Pixel Size Y: 0.09999998415768338
Band Count: 1
Pixel Type: F32
RasterFunction Infos: {"rasterFunctionInfos": [
{
"name": "dorian_gpm_totalprecip",
"description": "A raster function template.",
"help": ""
},
{
"name": "None",
"description": "",
"help": ""
}
]}
Mensuration Capabilities: Basic
Has Histograms: true
Has Colormap: false
Has Multi Dimensions : false
Rendering Rule:
Min Scale: 0
Max Scale: 0
Copyright Text: NASA Precipitation Measurement Missions (PMM) Science Team, The Global Precipitation Measurement (GPM) mission, NASA, Japan Aerospace Exploration Agency (JAXA)
Service Data Type: esriImageServiceDataTypeGeneric
Min Values: 4.1643619537354
Max Values: 1255.0455322266
Mean Values: 166.55706667005
Standard Deviation Values: 186.64020999632
Object ID Field:
Fields:
None
Default Mosaic Method: Center
Allowed Mosaic Methods:
SortField:
SortValue: null
Mosaic Operator: First
Default Compression Quality: 75
Default Resampling Method: Nearest
Max Record Count: null
Max Image Height: 4100
Max Image Width: 15000
Max Download Image Count: null
Max Mosaic Image Count: null
Allow Raster Function: true
Allow Copy: true
Allow Analysis: true
Allow Compute TiePoints: false
Supports Statistics: false
Supports Advanced Queries: false
Use StandardizedQueries: true
Raster Type Infos:
Name: Raster Dataset
Description: Supports all ArcGIS Raster Datasets
Help:
Has Raster Attribute Table: false
Edit Fields Info: null
Ownership Based AccessControl For Rasters: null
Child Resources:
Info
Histograms
Statistics
Key Properties
Legend
Raster Function Infos
Supported Operations:
Export Image
Identify
Measure
Compute Histograms
Compute Statistics Histograms
Get Samples
Compute Class Statistics
Query Boundary
Compute Pixel Location
Compute Angles
Validate
Project