View In:
ArcGIS JavaScript
ArcGIS Online Map Viewer
ArcGIS Earth
ArcMap
View Footprint In:
ArcGIS Online Map Viewer
Service Description: Date of Image:
9/30/2019
Date of Next Image:
None Expected
Summary:
The Advanced Rapid Imaging and Analysis (ARIA) team at NASA's Jet Propulsion Laboratory and California Institute of Technology in Pasadena, California, in collaboration with the Earth Observatory of Singapore (EOS), created this Flood Proxy Map depicting areas that are likely flooded (shown by light blue pixels) in Bihar, eastern India, due to heavy rains brought by the monsoon season. The map extents are indicated by the white polygon. This map should be used as a guidance to identify areas that are likely flooded, and is less reliable over urban and vegetated areas. Derived from synthetic aperture radar data acquired by the Copernicus Sentinel-1 satellites operated by the European Space Agency (ESA) before (21 May) and during (30 Sep) the event. Analysed by the ARIA-SG team at the Earth Observatory of Singapore (EOS) in collaboration with NASA-JPL and Caltech. Suggested Use:
Potentially flooding is shown by blue pixels.This flood proxy map should be used as guidance to identify areas that are likely flooded, and may be less reliable over urban and vegetated areas.
Satellite/Sensor:
Synthetic Aperture Radar (SAR) on European Space Agency's (ESA) Copernicus Sentinel-1 satellite
Resolution: 30 meters
Credits:
Contains modified Copernicus Sentinel data (2019) processed by the ARIA team at NASA-JPL & Caltech and EOS team in Singapore.
This task was carried out at JPL funded by NASA Disasters Program.
For more information about ARIA, visit: http://aria.jpl.nasa.gov
For more information about EOS, visit: https://www.earthobservatory.sg/
For more information about the EU’s Copernicus Programme, visit: https://www.copernicus.eu/en
Name: india_flood_201909/aria_fpm_sentinel1_20190930
Description: Date of Image:
9/30/2019
Date of Next Image:
None Expected
Summary:
The Advanced Rapid Imaging and Analysis (ARIA) team at NASA's Jet Propulsion Laboratory and California Institute of Technology in Pasadena, California, in collaboration with the Earth Observatory of Singapore (EOS), created this Flood Proxy Map depicting areas that are likely flooded (shown by light blue pixels) in Bihar, eastern India, due to heavy rains brought by the monsoon season. The map extents are indicated by the white polygon. This map should be used as a guidance to identify areas that are likely flooded, and is less reliable over urban and vegetated areas. Derived from synthetic aperture radar data acquired by the Copernicus Sentinel-1 satellites operated by the European Space Agency (ESA) before (21 May) and during (30 Sep) the event. Analysed by the ARIA-SG team at the Earth Observatory of Singapore (EOS) in collaboration with NASA-JPL and Caltech. Suggested Use:
Potentially flooding is shown by blue pixels.This flood proxy map should be used as guidance to identify areas that are likely flooded, and may be less reliable over urban and vegetated areas.
Satellite/Sensor:
Synthetic Aperture Radar (SAR) on European Space Agency's (ESA) Copernicus Sentinel-1 satellite
Resolution: 30 meters
Credits:
Contains modified Copernicus Sentinel data (2019) processed by the ARIA team at NASA-JPL & Caltech and EOS team in Singapore.
This task was carried out at JPL funded by NASA Disasters Program.
For more information about ARIA, visit: http://aria.jpl.nasa.gov
For more information about EOS, visit: https://www.earthobservatory.sg/
For more information about the EU’s Copernicus Programme, visit: https://www.copernicus.eu/en
Single Fused Map Cache: false
Extent:
XMin: 84.83020749792902
YMin: 24.727938517595394
XMax: 87.61381860904012
YMax: 26.70960518426205
Spatial Reference: 4326
(4326)
Initial Extent:
XMin: 84.83020749792902
YMin: 24.727938517595394
XMax: 87.61381860904012
YMax: 26.70960518426205
Spatial Reference: 4326
(4326)
Full Extent:
XMin: 84.83020749792902
YMin: 24.727938517595394
XMax: 87.61381860904012
YMax: 26.70960518426205
Spatial Reference: 4326
(4326)
Pixel Size X: 2.7777777777777664E-4
Pixel Size Y: 2.7777777777777615E-4
Band Count: 1
Pixel Type: U1
RasterFunction Infos: {"rasterFunctionInfos": [
{
"name": "aria_fpm_colormap",
"description": "A raster function template.",
"help": ""
},
{
"name": "None",
"description": "",
"help": ""
}
]}
Mensuration Capabilities: Basic
Has Histograms: false
Has Colormap: false
Has Multi Dimensions : false
Rendering Rule:
Min Scale: 0
Max Scale: 0
Copyright Text: NASA-JPL/Caltech ARIA Team, EOS Singapore ESA Copernicus
Service Data Type: esriImageServiceDataTypeThematic
Min Values: N/A
Max Values: N/A
Mean Values: N/A
Standard Deviation Values: N/A
Object ID Field:
Fields:
None
Default Mosaic Method: Center
Allowed Mosaic Methods:
SortField:
SortValue: null
Mosaic Operator: First
Default Compression Quality: 75
Default Resampling Method: Bilinear
Max Record Count: null
Max Image Height: 4100
Max Image Width: 15000
Max Download Image Count: null
Max Mosaic Image Count: null
Allow Raster Function: true
Allow Copy: true
Allow Analysis: true
Allow Compute TiePoints: false
Supports Statistics: false
Supports Advanced Queries: false
Use StandardizedQueries: true
Raster Type Infos:
Name: Raster Dataset
Description: Supports all ArcGIS Raster Datasets
Help:
Has Raster Attribute Table: false
Edit Fields Info: null
Ownership Based AccessControl For Rasters: null
Child Resources:
Info
Statistics
Key Properties
Legend
Raster Function Infos
Supported Operations:
Export Image
Identify
Measure
Compute Histograms
Compute Statistics Histograms
Get Samples
Compute Class Statistics
Query Boundary
Compute Pixel Location
Compute Angles
Validate
Project