View In:
ArcGIS JavaScript
ArcGIS Online Map Viewer
ArcGIS Earth
ArcMap
View Footprint In:
ArcGIS Online Map Viewer
Service Description: Date of Image:
4/11/2020
Date of Next Image:
None Expected
Summary:
In response to the 4/11/2020 Krakatau eruption, the VIIRS sensor was used to measure the Sulfur Dioxide (SO2) that was put into the atmosphere by the eruption.
Suggested Use:
This product can be used to detect how much SO2 was put into the atmosphere which could affect air quality and air travel.
Satellite/Sensor:
Suomi National Polar-Orbiting Partnership (S-NPP) Visible Infrared Imaging Radiometer Suite (VIIRS)
Resolution: 750 meters
Credits:
Vince Realmuto, NASA, NOAA
Name: krakatau_202004/viirs_so2_20200411
Description: Date of Image:
4/11/2020
Date of Next Image:
None Expected
Summary:
In response to the 4/11/2020 Krakatau eruption, the VIIRS sensor was used to measure the Sulfur Dioxide (SO2) that was put into the atmosphere by the eruption.
Suggested Use:
This product can be used to detect how much SO2 was put into the atmosphere which could affect air quality and air travel.
Satellite/Sensor:
Suomi National Polar-Orbiting Partnership (S-NPP) Visible Infrared Imaging Radiometer Suite (VIIRS)
Resolution: 750 meters
Credits:
Vince Realmuto, NASA, NOAA
Single Fused Map Cache: false
Extent:
XMin: -1579483.258
YMin: -1130177.5330000003
XMax: 2024137.742
YMax: 1679269.667
Spatial Reference: 32647
(32647)
Initial Extent:
XMin: -1579483.258
YMin: -1130177.5330000003
XMax: 2024137.742
YMax: 1679269.667
Spatial Reference: 32647
(32647)
Full Extent:
XMin: -1579483.258
YMin: -1130177.5330000003
XMax: 2024137.742
YMax: 1679269.667
Spatial Reference: 32647
(32647)
Pixel Size X: 765.1
Pixel Size Y: 765.1
Band Count: 1
Pixel Type: F32
RasterFunction Infos: {"rasterFunctionInfos": [
{
"name": "viirs_so2_krakatua",
"description": "A raster function template.",
"help": ""
},
{
"name": "None",
"description": "",
"help": ""
}
]}
Mensuration Capabilities: Basic
Has Histograms: false
Has Colormap: false
Has Multi Dimensions : false
Rendering Rule:
Min Scale: 0
Max Scale: 0
Copyright Text: Vince Realmuto, NASA, NOAA
Service Data Type: esriImageServiceDataTypeGeneric
Min Values: N/A
Max Values: N/A
Mean Values: N/A
Standard Deviation Values: N/A
Object ID Field:
Fields:
None
Default Mosaic Method: Center
Allowed Mosaic Methods:
SortField:
SortValue: null
Mosaic Operator: First
Default Compression Quality: 75
Default Resampling Method: Nearest
Max Record Count: null
Max Image Height: 4100
Max Image Width: 15000
Max Download Image Count: null
Max Mosaic Image Count: null
Allow Raster Function: true
Allow Copy: true
Allow Analysis: true
Allow Compute TiePoints: false
Supports Statistics: false
Supports Advanced Queries: false
Use StandardizedQueries: true
Raster Type Infos:
Name: Raster Dataset
Description: Supports all ArcGIS Raster Datasets
Help:
Has Raster Attribute Table: false
Edit Fields Info: null
Ownership Based AccessControl For Rasters: null
Child Resources:
Info
Statistics
Key Properties
Legend
Raster Function Infos
Supported Operations:
Export Image
Identify
Measure
Compute Histograms
Compute Statistics Histograms
Get Samples
Compute Class Statistics
Query Boundary
Compute Pixel Location
Compute Angles
Validate
Project