View In:
ArcGIS JavaScript
ArcGIS Online Map Viewer
ArcGIS Earth
ArcMap
View Footprint In:
ArcGIS Online Map Viewer
Service Description: Dates of Images:
4/8/2021 - ongoing
Date of Next Image:
Daily as possible
Summary:
The eruption of the La Soufriere volcano ejected ash and aerosols into the atmosphere. Utilizing the OMPS sensor on Suomi-NPP, NASA scientists can measure the sulfur dioxide (SO2) concentration from the eruption. SO2 is often used as a proxy for the location of volcanic ash. High concentrations of SO2 can also be hazardous to human health and air travel. This layer measures the concentration in the Planetary Boundary Layer, which is the lowest section of the troposphere.
Suggested Use:
Yellow to brown indicates higher sulfur dioxide (SO2) concentrations
Satellite/Sensor:
Suomi-NPP Ozone Mapping Profiler Suite (OMPS)
Resolution:
50 kilometers
Credits:
NASA's Disasters Program, LANCE.
Data and/or imagery from NASA's Land, Atmosphere Near real-time Capability for EOS (LANCE) system (https://earthdata.nasa.gov/lance), part of NASA's Earth Observing System Data and Information System (EOSDIS).
Esri REST Endpoint:
See URL Section on right side of page
WMS Endpoint:
Data Download:
https://maps.disasters.nasa.gov/download/gis_products/event_specific/2021/la_soufriere_eruption/omps/so2_pbl/
Name: la_sourfriere_eruption_2021/omps_so2_pbl
Description: Dates of Images:
4/8/2021 - ongoing
Date of Next Image:
Daily as possible
Summary:
The eruption of the La Soufriere volcano ejected ash and aerosols into the atmosphere. Utilizing the OMPS sensor on Suomi-NPP, NASA scientists can measure the sulfur dioxide (SO2) concentration from the eruption. SO2 is often used as a proxy for the location of volcanic ash. High concentrations of SO2 can also be hazardous to human health and air travel. This layer measures the concentration in the Planetary Boundary Layer, which is the lowest section of the troposphere.
Suggested Use:
Yellow to brown indicates higher sulfur dioxide (SO2) concentrations
Satellite/Sensor:
Suomi-NPP Ozone Mapping Profiler Suite (OMPS)
Resolution:
50 kilometers
Credits:
NASA's Disasters Program, LANCE.
Data and/or imagery from NASA's Land, Atmosphere Near real-time Capability for EOS (LANCE) system (https://earthdata.nasa.gov/lance), part of NASA's Earth Observing System Data and Information System (EOSDIS).
Esri REST Endpoint:
See URL Section on right side of page
WMS Endpoint:
Data Download:
https://maps.disasters.nasa.gov/download/gis_products/event_specific/2021/la_soufriere_eruption/omps/so2_pbl/
Single Fused Map Cache: false
Extent:
XMin: -2.0037507842788246E7
YMin: -3.024097145838615E7
XMax: 2.0037507842788246E7
YMax: 3.024097145838615E7
Spatial Reference: 102100
(3857)
Initial Extent:
XMin: -2.0037507842788246E7
YMin: -3.024097145838615E7
XMax: 2.0037507842788246E7
YMax: 3.024097145838615E7
Spatial Reference: 102100
(3857)
Full Extent:
XMin: -2.0037507842788246E7
YMin: -3.024097145838615E7
XMax: 2.0037507842788246E7
YMax: 3.024097145838615E7
Spatial Reference: 102100
(3857)
Time Info:
Start Time Field: Date
End Time Field: Date
Time Extent:
[2021/04/08 03:09:58 UTC, 2021/04/23 03:13:03 UTC]
Time Reference:
N/A
Pixel Size X: 27829.872003872562
Pixel Size Y: 27820.580918478518
Band Count: 1
Pixel Type: F32
RasterFunction Infos: {"rasterFunctionInfos": [
{
"name": "omps_aerosol_index_ak_wildfires2019",
"description": "A raster function template.",
"help": ""
},
{
"name": "None",
"description": "A No-Op Function.",
"help": ""
}
]}
Mensuration Capabilities: Basic
Has Histograms: true
Has Colormap: false
Has Multi Dimensions : false
Rendering Rule:
Min Scale: 0
Max Scale: 0
Copyright Text: NASA Disasters Program, LANCE
Service Data Type: esriImageServiceDataTypeGeneric
Min Values: 0.5000011920928955
Max Values: 236.9312286376953
Mean Values: 0.9724900144890004
Standard Deviation Values: 2.938279413485682
Object ID Field: OBJECTID
Fields:
-
OBJECTID
(
type: esriFieldTypeOID, alias: OBJECTID
)
-
Shape
(
type: esriFieldTypeGeometry, alias: Shape
)
-
Name
(
type: esriFieldTypeString, alias: Name, length: 200
)
-
MinPS
(
type: esriFieldTypeDouble, alias: MinPS
)
-
MaxPS
(
type: esriFieldTypeDouble, alias: MaxPS
)
-
LowPS
(
type: esriFieldTypeDouble, alias: LowPS
)
-
HighPS
(
type: esriFieldTypeDouble, alias: HighPS
)
-
Category
(
type: esriFieldTypeInteger, alias: Category
, Coded Values:
[0: Unknown]
, [1: Primary]
, [2: Overview]
, ...6 more...
)
-
Tag
(
type: esriFieldTypeString, alias: Tag, length: 100
)
-
GroupName
(
type: esriFieldTypeString, alias: GroupName, length: 100
)
-
ProductName
(
type: esriFieldTypeString, alias: ProductName, length: 100
)
-
CenterX
(
type: esriFieldTypeDouble, alias: CenterX
)
-
CenterY
(
type: esriFieldTypeDouble, alias: CenterY
)
-
ZOrder
(
type: esriFieldTypeInteger, alias: ZOrder
)
-
Shape_Length
(
type: esriFieldTypeDouble, alias: Shape_Length
)
-
Shape_Area
(
type: esriFieldTypeDouble, alias: Shape_Area
)
-
Date
(
type: esriFieldTypeDate, alias: Date, length: 8
)
Default Mosaic Method: Northwest
Allowed Mosaic Methods: NorthWest,Center,LockRaster,ByAttribute,Nadir,Viewpoint,Seamline,None
SortField:
SortValue: null
Mosaic Operator: First
Default Compression Quality: 75
Default Resampling Method: Nearest
Max Record Count: 1000
Max Image Height: 4100
Max Image Width: 15000
Max Download Image Count: 20
Max Mosaic Image Count: 20
Allow Raster Function: true
Allow Copy: true
Allow Analysis: true
Allow Compute TiePoints: false
Supports Statistics: true
Supports Advanced Queries: true
Use StandardizedQueries: true
Raster Type Infos:
Name: Raster Dataset
Description: Supports all ArcGIS Raster Datasets
Help:
Has Raster Attribute Table: false
Edit Fields Info: null
Ownership Based AccessControl For Rasters: null
Child Resources:
Info
Histograms
Statistics
Key Properties
Legend
Raster Function Infos
Supported Operations:
Export Image
Query
Identify
Measure
Compute Histograms
Compute Statistics Histograms
Get Samples
Compute Class Statistics
Query Boundary
Compute Pixel Location
Compute Angles
Validate
Project