View In:
ArcGIS JavaScript
ArcGIS Online Map Viewer
ArcGIS Earth
ArcMap
View Footprint In:
ArcGIS Online Map Viewer
Service Description: Dates of Image:8/4/2020 and 8/5/2020Date of Next Image:NoneSummary:The Advanced Rapid Imaging and Analysis (ARIA) team at NASA's Jet Propulsion Laboratory and California Institute of Technology in Pasadena, California, in collaboration with the Earth Observatory of Singapore (EOS), created this Damage Proxy Map (DPM) depicting areas that are likely damaged caused by the explosion in Lebanon. The map was derived from synthetic aperture radar (SAR) images from the Copernicus Sentinel-1 satellites, operated by the European Space Agency (ESA). This preliminary map shows areas which are likely damaged in Lebanon, due to an explosion. Derived from synthetic aperture radar data acquired by the Copernicus Sentinel-1 satellites operated by the European Space Agency (ESA) before (29-30 Jul) and after (4-5 Aug) the event. It is validated using satellite imagery from DigitalGlobe.This damage proxy map should be used as guidance to identify damaged areas, and may be less reliable over vegetated areas. For example, the scattered colored pixels over vegetated areas may be false positives, and the lack of colored pixels over vegetated areas does not necessarily mean no damage. This map is most sensitive to building damage, but small scale change or partial structural damage may not be detected by this map.Suggested Use:This damage proxy map shows surface change with yellow to red indicating more significant change or building damage due to the explosion. The damage proxy map should be used as guidance to identify damaged areas and may be less reliable over vegetated areas. The lack of colored pixels over vegetated areas does not necessarily mean no damage. Small scale change or partial structural damage may not be detected by this map.Satellite/Sensor:Copernicus Sentinel-1 Synthetic Aperture Radar (SAR)Resolution:30 metersCredits:The image contains modified Copernicus Sentinel data (2020), analyzed by the ARIA-SG team at the Earth Observatory of Singapore (EOS) in collaboration with NASA-JPL/Caltech ARIA team.Esri REST Endpoint:See URL Section on right side of pageWMS Endpoint:
Name: lebanon_explosion_202008/aria_dpm_sentinel1_20200805
Description: Dates of Image:8/4/2020 and 8/5/2020Date of Next Image:NoneSummary:The Advanced Rapid Imaging and Analysis (ARIA) team at NASA's Jet Propulsion Laboratory and California Institute of Technology in Pasadena, California, in collaboration with the Earth Observatory of Singapore (EOS), created this Damage Proxy Map (DPM) depicting areas that are likely damaged caused by the explosion in Lebanon. The map was derived from synthetic aperture radar (SAR) images from the Copernicus Sentinel-1 satellites, operated by the European Space Agency (ESA). This preliminary map shows areas which are likely damaged in Lebanon, due to an explosion. Derived from synthetic aperture radar data acquired by the Copernicus Sentinel-1 satellites operated by the European Space Agency (ESA) before (29-30 Jul) and after (4-5 Aug) the event. It is validated using satellite imagery from DigitalGlobe.This damage proxy map should be used as guidance to identify damaged areas, and may be less reliable over vegetated areas. For example, the scattered colored pixels over vegetated areas may be false positives, and the lack of colored pixels over vegetated areas does not necessarily mean no damage. This map is most sensitive to building damage, but small scale change or partial structural damage may not be detected by this map.Suggested Use:This damage proxy map shows surface change with yellow to red indicating more significant change or building damage due to the explosion. The damage proxy map should be used as guidance to identify damaged areas and may be less reliable over vegetated areas. The lack of colored pixels over vegetated areas does not necessarily mean no damage. Small scale change or partial structural damage may not be detected by this map.Satellite/Sensor:Copernicus Sentinel-1 Synthetic Aperture Radar (SAR)Resolution:30 metersCredits:The image contains modified Copernicus Sentinel data (2020), analyzed by the ARIA-SG team at the Earth Observatory of Singapore (EOS) in collaboration with NASA-JPL/Caltech ARIA team.Esri REST Endpoint:See URL Section on right side of pageWMS Endpoint:
Single Fused Map Cache: false
Extent:
XMin: 34.82586283254066
YMin: 33.702614868992306
XMax: 35.81169616587398
YMax: 34.03650375788119
Spatial Reference: 4326
(4326)
Initial Extent:
XMin: 34.82586283254066
YMin: 33.702614868992306
XMax: 35.81169616587398
YMax: 34.03650375788119
Spatial Reference: 4326
(4326)
Full Extent:
XMin: 34.82586283254066
YMin: 33.702614868992306
XMax: 35.81169616587398
YMax: 34.03650375788119
Spatial Reference: 4326
(4326)
Pixel Size X: 2.777777777777754E-4
Pixel Size Y: 2.777777777777754E-4
Band Count: 3
Pixel Type: U8
RasterFunction Infos: {"rasterFunctionInfos": [
{
"name": "RGB Composite",
"description": "A raster function template.",
"help": ""
},
{
"name": "None",
"description": "",
"help": ""
}
]}
Mensuration Capabilities: Basic
Has Histograms: false
Has Colormap: false
Has Multi Dimensions : false
Rendering Rule:
Min Scale: 0
Max Scale: 0
Copyright Text: ARIA-SG, Earth Observatory of Singapore, NASA-JPL/Caltech ARIA team, ESA, Copernicus
Service Data Type: esriImageServiceDataTypeThematic
Min Values: N/A
Max Values: N/A
Mean Values: N/A
Standard Deviation Values: N/A
Object ID Field:
Fields:
None
Default Mosaic Method: Center
Allowed Mosaic Methods:
SortField:
SortValue: null
Mosaic Operator: First
Default Compression Quality: 75
Default Resampling Method: Nearest
Max Record Count: null
Max Image Height: 4100
Max Image Width: 15000
Max Download Image Count: null
Max Mosaic Image Count: null
Allow Raster Function: true
Allow Copy: true
Allow Analysis: true
Allow Compute TiePoints: false
Supports Statistics: false
Supports Advanced Queries: false
Use StandardizedQueries: true
Raster Type Infos:
Name: Raster Dataset
Description: Supports all ArcGIS Raster Datasets
Help:
Has Raster Attribute Table: false
Edit Fields Info: null
Ownership Based AccessControl For Rasters: null
Child Resources:
Info
Statistics
Key Properties
Legend
Raster Function Infos
Supported Operations:
Export Image
Identify
Measure
Compute Histograms
Compute Statistics Histograms
Get Samples
Compute Class Statistics
Query Boundary
Compute Pixel Location
Compute Angles
Validate
Project