View In:
ArcGIS JavaScript
ArcGIS Online Map Viewer
ArcGIS Earth
ArcMap
View Footprint In:
ArcGIS Online Map Viewer
Service Description: Date of Images:
11/27/2022 - 12/8/2022
Date of Next Image:
Daily Updates as available
Summary:
The eruption of Mauna Loa on November 27, 2022 was the volcanoes first eruption since 1984. Utilizing the OMPS sensor on Suomi-NPP, NASA scientists can measure the sulfur dioxide (SO2) concentration from the eruption. SO2 is often used as a proxy for the location of volcanic ash. High concentrations of SO2 can also be hazardous to human health and air travel.
Suggested Use:
Green to red colors indicate higher sulfur dioxide (SO2) concentrations
Satellite/Sensor:
Suomi-NPP Ozone Mapping Profiler Suite (OMPS)
Resolution:
375 kilometers
Credits:
NASA's Direct Readout Laboratory (DRL)
Esri REST Endpoint:
See URL Section on right side of page
WMS Endpoint:
Data Download:
https://maps.disasters.nasa.gov/download/gis_products/event_specific/2022/mauna_loa_eruption_2022/omps/so2/
Name: mauna_loa_eruption_2022/omps_so2
Description: Date of Images:
11/27/2022 - 12/8/2022
Date of Next Image:
Daily Updates as available
Summary:
The eruption of Mauna Loa on November 27, 2022 was the volcanoes first eruption since 1984. Utilizing the OMPS sensor on Suomi-NPP, NASA scientists can measure the sulfur dioxide (SO2) concentration from the eruption. SO2 is often used as a proxy for the location of volcanic ash. High concentrations of SO2 can also be hazardous to human health and air travel.
Suggested Use:
Green to red colors indicate higher sulfur dioxide (SO2) concentrations
Satellite/Sensor:
Suomi-NPP Ozone Mapping Profiler Suite (OMPS)
Resolution:
375 kilometers
Credits:
NASA's Direct Readout Laboratory (DRL)
Esri REST Endpoint:
See URL Section on right side of page
WMS Endpoint:
Data Download:
https://maps.disasters.nasa.gov/download/gis_products/event_specific/2022/mauna_loa_eruption_2022/omps/so2/
Single Fused Map Cache: false
Extent:
XMin: -1.73891017785E7
YMin: 2011034.7559000012
XMax: -1.5559101778499998E7
YMax: 3001034.755900001
Spatial Reference: 102100
(3857)
Initial Extent:
XMin: -1.73891017785E7
YMin: 2011034.7559000012
XMax: -1.5559101778499998E7
YMax: 3001034.755900001
Spatial Reference: 102100
(3857)
Full Extent:
XMin: -1.73891017785E7
YMin: 2011034.7559000012
XMax: -1.5559101778499998E7
YMax: 3001034.755900001
Spatial Reference: 102100
(3857)
Time Info:
Start Time Field: Date
End Time Field: Date
Time Extent:
[2022/11/27 23:00:00 UTC, 2022/12/08 23:06:00 UTC]
Time Reference:
N/A
Pixel Size X: 10000.0
Pixel Size Y: 10000.0
Band Count: 4
Pixel Type: U8
RasterFunction Infos: {"rasterFunctionInfos": [{
"name": "None",
"description": "Make a Raster or Raster Dataset into a Function Raster Dataset.",
"help": ""
}]}
Mensuration Capabilities: Basic
Has Histograms: false
Has Colormap: false
Has Multi Dimensions : false
Rendering Rule:
Min Scale: 0
Max Scale: 0
Copyright Text: NASA DRL
Service Data Type: esriImageServiceDataTypeGeneric
Min Values: N/A
Max Values: N/A
Mean Values: N/A
Standard Deviation Values: N/A
Object ID Field: OBJECTID
Fields:
-
OBJECTID
(
type: esriFieldTypeOID, alias: OBJECTID
)
-
Shape
(
type: esriFieldTypeGeometry, alias: Shape
)
-
Name
(
type: esriFieldTypeString, alias: Name, length: 200
)
-
Category
(
type: esriFieldTypeInteger, alias: Category
, Coded Values:
[0: Unknown]
, [1: Primary]
, [2: Overview]
, ...6 more...
)
-
Date
(
type: esriFieldTypeDate, alias: Date, length: 8
)
Default Mosaic Method: Northwest
Allowed Mosaic Methods: NorthWest,Center,LockRaster,ByAttribute,Nadir,Viewpoint,Seamline,None
SortField:
SortValue: null
Mosaic Operator: First
Default Compression Quality: 75
Default Resampling Method: Nearest
Max Record Count: 1000
Max Image Height: 4100
Max Image Width: 15000
Max Download Image Count: 20
Max Mosaic Image Count: 20
Allow Raster Function: true
Allow Copy: true
Allow Analysis: true
Allow Compute TiePoints: false
Supports Statistics: true
Supports Advanced Queries: true
Use StandardizedQueries: true
Raster Type Infos:
Name: Raster Dataset
Description: Supports all ArcGIS Raster Datasets
Help:
Has Raster Attribute Table: false
Edit Fields Info: null
Ownership Based AccessControl For Rasters: null
Child Resources:
Info
Statistics
Key Properties
Legend
Raster Function Infos
Supported Operations:
Export Image
Query
Identify
Measure
Compute Histograms
Compute Statistics Histograms
Get Samples
Compute Class Statistics
Query Boundary
Compute Pixel Location
Compute Angles
Validate
Project