View In:
ArcGIS JavaScript
ArcGIS Online Map Viewer
ArcGIS Earth
ArcMap
View Footprint In:
ArcGIS Online Map Viewer
Service Description: Date of Image:
5/02/2020
Summary:
The National Central University (NCU) of Taiwan, in collaboration with the Advanced Rapid Imaging and Analysis (ARIA) team at NASA's Jet Propulsion Laboratory and California Institute of Technology in California, created this preliminary map shows areas that are likely flooded (shown by light blue pixels of 4 m in size) in Midland City, Michigan, due to burst of Edenville and Sanford dams. The image covers an area of roughly 25 by 44 kilometers (16 by 27 miles), shown by two white polygon. Each pixel measures about 4 meters across. This map should be used as a guidance to identify areas that are likely flooded, and maybe less reliable over urban and vegetated areas.
Suggested Use:
Likely flooded areas are shown as blue. This FPM should be used as guidance to identify flooded areas, and may be less reliable over urban and vegetated areas.
Satellite/Sensor:
Optical Imagery from Planet Labs
Resolution:
4 meters
Credits:
Derived from optical images acquired by Planet Labs on May 20, 2020. Analyzed by the National Central University of Taiwan in collaboration with NASA - Jet Propulsionl Laboratory and California Institue of Technology. This task was carried out at JPL funded by NASA.
Esri REST Endpoint:
See URL section on right side of page.
WMS Endpoint:
Download:
https://aria-share.jpl.nasa.gov/20200520-Midland_Dam_Burst_Floods/
Name: michigan_dam_failure_2020/aria_fpm_planet_20200520
Description: Date of Image:
5/02/2020
Summary:
The National Central University (NCU) of Taiwan, in collaboration with the Advanced Rapid Imaging and Analysis (ARIA) team at NASA's Jet Propulsion Laboratory and California Institute of Technology in California, created this preliminary map shows areas that are likely flooded (shown by light blue pixels of 4 m in size) in Midland City, Michigan, due to burst of Edenville and Sanford dams. The image covers an area of roughly 25 by 44 kilometers (16 by 27 miles), shown by two white polygon. Each pixel measures about 4 meters across. This map should be used as a guidance to identify areas that are likely flooded, and maybe less reliable over urban and vegetated areas.
Suggested Use:
Likely flooded areas are shown as blue. This FPM should be used as guidance to identify flooded areas, and may be less reliable over urban and vegetated areas.
Satellite/Sensor:
Optical Imagery from Planet Labs
Resolution:
4 meters
Credits:
Derived from optical images acquired by Planet Labs on May 20, 2020. Analyzed by the National Central University of Taiwan in collaboration with NASA - Jet Propulsionl Laboratory and California Institue of Technology. This task was carried out at JPL funded by NASA.
Esri REST Endpoint:
See URL section on right side of page.
WMS Endpoint:
Download:
https://aria-share.jpl.nasa.gov/20200520-Midland_Dam_Burst_Floods/
Single Fused Map Cache: false
Extent:
XMin: -9395389.7711
YMin: 5344610.571799997
XMax: -9353737.7711
YMax: 5412533.571799997
Spatial Reference: 102100
(3857)
Initial Extent:
XMin: -9395389.7711
YMin: 5344610.571799997
XMax: -9353737.7711
YMax: 5412533.571799997
Spatial Reference: 102100
(3857)
Full Extent:
XMin: -9395389.7711
YMin: 5344610.571799997
XMax: -9353737.7711
YMax: 5412533.571799997
Spatial Reference: 102100
(3857)
Pixel Size X: 3.0
Pixel Size Y: 3.0
Band Count: 1
Pixel Type: U4
RasterFunction Infos: {"rasterFunctionInfos": [
{
"name": "aria_fpm_colormap",
"description": "A raster function template.",
"help": ""
},
{
"name": "None",
"description": "",
"help": ""
}
]}
Mensuration Capabilities: Basic
Has Histograms: true
Has Colormap: false
Has Multi Dimensions : false
Rendering Rule:
Min Scale: 0
Max Scale: 0
Copyright Text: NASA-JPL/Caltech ARIA team, Planet Labs, National Central University of Taiwan
Service Data Type: esriImageServiceDataTypeGeneric
Min Values: 5
Max Values: 5
Mean Values: 5
Standard Deviation Values: 0
Object ID Field: OBJECTID
Fields:
-
OBJECTID
(
type: esriFieldTypeOID, alias: OBJECTID
)
-
Shape
(
type: esriFieldTypeGeometry, alias: Shape
)
-
Name
(
type: esriFieldTypeString, alias: Name, length: 200
)
-
MinPS
(
type: esriFieldTypeDouble, alias: MinPS
)
-
MaxPS
(
type: esriFieldTypeDouble, alias: MaxPS
)
-
LowPS
(
type: esriFieldTypeDouble, alias: LowPS
)
-
HighPS
(
type: esriFieldTypeDouble, alias: HighPS
)
-
Category
(
type: esriFieldTypeInteger, alias: Category
, Coded Values:
[0: Unknown]
, [1: Primary]
, [2: Overview]
, ...6 more...
)
-
Tag
(
type: esriFieldTypeString, alias: Tag, length: 100
)
-
GroupName
(
type: esriFieldTypeString, alias: GroupName, length: 100
)
-
ProductName
(
type: esriFieldTypeString, alias: ProductName, length: 100
)
-
CenterX
(
type: esriFieldTypeDouble, alias: CenterX
)
-
CenterY
(
type: esriFieldTypeDouble, alias: CenterY
)
-
ZOrder
(
type: esriFieldTypeInteger, alias: ZOrder
)
-
Shape_Length
(
type: esriFieldTypeDouble, alias: Shape_Length
)
-
Shape_Area
(
type: esriFieldTypeDouble, alias: Shape_Area
)
Default Mosaic Method: Northwest
Allowed Mosaic Methods: NorthWest,Center,LockRaster,ByAttribute,Nadir,Viewpoint,Seamline,None
SortField:
SortValue: null
Mosaic Operator: First
Default Compression Quality: 75
Default Resampling Method: Bilinear
Max Record Count: 1000
Max Image Height: 4100
Max Image Width: 15000
Max Download Image Count: 20
Max Mosaic Image Count: 20
Allow Raster Function: true
Allow Copy: true
Allow Analysis: true
Allow Compute TiePoints: false
Supports Statistics: true
Supports Advanced Queries: true
Use StandardizedQueries: true
Raster Type Infos:
Name: Raster Dataset
Description: Supports all ArcGIS Raster Datasets
Help:
Has Raster Attribute Table: false
Edit Fields Info: null
Ownership Based AccessControl For Rasters: null
Child Resources:
Info
Histograms
Statistics
Key Properties
Legend
Raster Function Infos
Supported Operations:
Export Image
Query
Identify
Measure
Compute Histograms
Compute Statistics Histograms
Get Samples
Compute Class Statistics
Query Boundary
Compute Pixel Location
Compute Angles
Validate
Project