View In:
ArcGIS JavaScript
ArcGIS Online Map Viewer
ArcGIS Earth
ArcMap
View Footprint In:
ArcGIS Online Map Viewer
Service Description: Sentinel-5P/TROPOMI Average SO2 2018-2020
Name: non_response/sentinel5p_tropomi_so2_average_2018_2020
Description: Sentinel-5P/TROPOMI Average SO2 2018-2020
Single Fused Map Cache: false
Extent:
XMin: -180
YMin: -51
XMax: 180
YMax: 72
Spatial Reference: 4326
(4326)
Initial Extent:
XMin: -180
YMin: -51
XMax: 180
YMax: 72
Spatial Reference: 4326
(4326)
Full Extent:
XMin: -180
YMin: -51
XMax: 180
YMax: 72
Spatial Reference: 4326
(4326)
Pixel Size X: 0.014999375026040582
Pixel Size Y: 0.014998170954761615
Band Count: 3
Pixel Type: U8
RasterFunction Infos: {"rasterFunctionInfos": [{
"name": "None",
"description": "",
"help": ""
}]}
Mensuration Capabilities: Basic
Has Histograms: true
Has Colormap: false
Has Multi Dimensions : false
Rendering Rule:
Min Scale: 0
Max Scale: 0
Copyright Text: S5P/TROPOMI average SO2 map courtesy Nicolas Theys (BIRA-IASB)
Service Data Type: esriImageServiceDataTypeRGB
Min Values: 0, 0, 0
Max Values: 255, 255, 255
Mean Values: 239.68799586305, 253.04896963478, 241.35290024013
Standard Deviation Values: 32.764164547636, 19.389936570119, 44.211475180888
Object ID Field:
Fields:
None
Default Mosaic Method: Center
Allowed Mosaic Methods:
SortField:
SortValue: null
Mosaic Operator: First
Default Compression Quality: 75
Default Resampling Method: Bilinear
Max Record Count: null
Max Image Height: 4100
Max Image Width: 15000
Max Download Image Count: null
Max Mosaic Image Count: null
Allow Raster Function: true
Allow Copy: true
Allow Analysis: true
Allow Compute TiePoints: false
Supports Statistics: false
Supports Advanced Queries: false
Use StandardizedQueries: true
Raster Type Infos:
Name: Raster Dataset
Description: Supports all ArcGIS Raster Datasets
Help:
Has Raster Attribute Table: false
Edit Fields Info: null
Ownership Based AccessControl For Rasters: null
Child Resources:
Info
Histograms
Statistics
Key Properties
Legend
Raster Function Infos
Supported Operations:
Export Image
Identify
Measure
Compute Histograms
Compute Statistics Histograms
Get Samples
Compute Class Statistics
Query Boundary
Compute Pixel Location
Compute Angles
Validate
Project