View In:
ArcGIS JavaScript
ArcGIS Online Map Viewer
ArcGIS Earth
ArcMap
View Footprint In:
ArcGIS Online Map Viewer
Service Description: Date of Image:
8/2/2021
Date of Next Image:
None expected
Summary:
The Advanced Rapid Imaging and Analysis (ARIA) team at NASA's Jet Propulsion Laboratory and California Institute of Technology, both in Pasadena, California, created this Damage Proxy Map (DPM) depicting areas that are likely damaged by the recent Mw 6.2 (July 30, 2021) earthquake beneath the ESE of Sullana, Peru. The map was derived from synthetic aperture radar (SAR) images on Aug 02, 2021 by the Copernicus Sentinel-1 satellites operated by the European Space Agency (ESA). The pre-event images were taken before (July 09, 2021 and July 21, 2021) the earthquake. The image covers an area of 102 by 175 kilometers (63 by 108 miles), shown by the large red polygon. Each pixel measures about 30 meters across. The color variation from yellow to red indicates increasingly more significant surface change. Preliminary validation was done by comparing with the Media reports. This damage proxy map should be used as guidance to identify damaged areas, and may be less reliable over vegetated areas. For example, the scattered colored pixels over vegetated areas may be false positives, and the lack of colored pixels over vegetated areas does not necessarily mean no damage. Other areas that had large surface changes between July 21 and August 2 due to rain, flood, or other effects may also be included in the damage proxy estimate. This map is most sensitive to building damage, but small-scale change or partial structural damage may not be detected by this map. Contains modified Copernicus Sentinel data, processed by ESA. Analyzed by the NASA-JPL/Caltech ARIA team. This task was carried out at JPL funded by NASA. Suggested Use:
This damage proxy map shows surface change with yellow to red indicating more significant change or building damage due to the earthquake. The map may be less reliable over vegetated areas. The lack of colored pixels over vegetated areas does not necessarily mean no damage. Small scale change or partial structural damage may not be detected by this map.
Satellite/Sensor:
Copernicus Sentinel-1 Synthetic Aperture Radar (SAR)
Resolution:
30 meters
Credits:
The product contains modified Copernicus Sentinel data (2021), processed by ESA and analyzed by the NASA-JPL/Caltech ARIA team and EOS team. Part of the fund was provided by NASA's Earth Science Disasters Program.
Esri REST Endpoint:
See URL section on right side of page
WMS Endpoint:
Data Download:
https://aria-share.jpl.nasa.gov/20210730-Sullana_Peru_EQ/DPM/
Name: peru_earthquake_202107/aria_dpm_sentinel1_20210802
Description: Date of Image:
8/2/2021
Date of Next Image:
None expected
Summary:
The Advanced Rapid Imaging and Analysis (ARIA) team at NASA's Jet Propulsion Laboratory and California Institute of Technology, both in Pasadena, California, created this Damage Proxy Map (DPM) depicting areas that are likely damaged by the recent Mw 6.2 (July 30, 2021) earthquake beneath the ESE of Sullana, Peru. The map was derived from synthetic aperture radar (SAR) images on Aug 02, 2021 by the Copernicus Sentinel-1 satellites operated by the European Space Agency (ESA). The pre-event images were taken before (July 09, 2021 and July 21, 2021) the earthquake. The image covers an area of 102 by 175 kilometers (63 by 108 miles), shown by the large red polygon. Each pixel measures about 30 meters across. The color variation from yellow to red indicates increasingly more significant surface change. Preliminary validation was done by comparing with the Media reports. This damage proxy map should be used as guidance to identify damaged areas, and may be less reliable over vegetated areas. For example, the scattered colored pixels over vegetated areas may be false positives, and the lack of colored pixels over vegetated areas does not necessarily mean no damage. Other areas that had large surface changes between July 21 and August 2 due to rain, flood, or other effects may also be included in the damage proxy estimate. This map is most sensitive to building damage, but small-scale change or partial structural damage may not be detected by this map. Contains modified Copernicus Sentinel data, processed by ESA. Analyzed by the NASA-JPL/Caltech ARIA team. This task was carried out at JPL funded by NASA. Suggested Use:
This damage proxy map shows surface change with yellow to red indicating more significant change or building damage due to the earthquake. The map may be less reliable over vegetated areas. The lack of colored pixels over vegetated areas does not necessarily mean no damage. Small scale change or partial structural damage may not be detected by this map.
Satellite/Sensor:
Copernicus Sentinel-1 Synthetic Aperture Radar (SAR)
Resolution:
30 meters
Credits:
The product contains modified Copernicus Sentinel data (2021), processed by ESA and analyzed by the NASA-JPL/Caltech ARIA team and EOS team. Part of the fund was provided by NASA's Earth Science Disasters Program.
Esri REST Endpoint:
See URL section on right side of page
WMS Endpoint:
Data Download:
https://aria-share.jpl.nasa.gov/20210730-Sullana_Peru_EQ/DPM/
Single Fused Map Cache: false
Extent:
XMin: -81.7994542
YMin: -5.596185829885963
XMax: -80.07817163076861
YMax: -4.5133719
Spatial Reference: 4326
(4326)
Initial Extent:
XMin: -81.7994542
YMin: -5.596185829885963
XMax: -80.07817163076861
YMax: -4.5133719
Spatial Reference: 4326
(4326)
Full Extent:
XMin: -81.7994542
YMin: -5.596185829885963
XMax: -80.07817163076861
YMax: -4.5133719
Spatial Reference: 4326
(4326)
Pixel Size X: 1.388579032939167E-4
Pixel Size Y: 1.3885790329391673E-4
Band Count: 4
Pixel Type: U8
RasterFunction Infos: {"rasterFunctionInfos": [
{
"name": "RGB Composite",
"description": "A raster function template.",
"help": ""
},
{
"name": "None",
"description": "",
"help": ""
}
]}
Mensuration Capabilities: Basic
Has Histograms: true
Has Colormap: false
Has Multi Dimensions : false
Rendering Rule:
Min Scale: 0
Max Scale: 0
Copyright Text: NASA-JPL/Caltech ARIA Team, ESA, Copernicus
Service Data Type: esriImageServiceDataTypeGeneric
Min Values: 0, 0, 0, 0
Max Values: 255, 255, 0, 255
Mean Values: 6.3694036874627, 3.4905440192377, 0, 6.5252538152579
Standard Deviation Values: 38.388367062207, 27.238676302416, 0, 38.621018413837
Object ID Field:
Fields:
None
Default Mosaic Method: Center
Allowed Mosaic Methods:
SortField:
SortValue: null
Mosaic Operator: First
Default Compression Quality: 75
Default Resampling Method: Nearest
Max Record Count: null
Max Image Height: 4100
Max Image Width: 15000
Max Download Image Count: null
Max Mosaic Image Count: null
Allow Raster Function: true
Allow Copy: true
Allow Analysis: true
Allow Compute TiePoints: false
Supports Statistics: false
Supports Advanced Queries: false
Use StandardizedQueries: true
Raster Type Infos:
Name: Raster Dataset
Description: Supports all ArcGIS Raster Datasets
Help:
Has Raster Attribute Table: false
Edit Fields Info: null
Ownership Based AccessControl For Rasters: null
Child Resources:
Info
Histograms
Statistics
Key Properties
Legend
Raster Function Infos
Supported Operations:
Export Image
Identify
Measure
Compute Histograms
Compute Statistics Histograms
Get Samples
Compute Class Statistics
Query Boundary
Compute Pixel Location
Compute Angles
Validate
Project