View In:
ArcGIS JavaScript
ArcGIS Online Map Viewer
ArcGIS Earth
ArcMap
View Footprint In:
ArcGIS Online Map Viewer
Service Description: Date of Image:
1/14/2020
Date of Next Image:
Unknown
Summary:
The Advanced Rapid Imaging and Analysis (ARIA) data system at NASA's Jet Propulsion Laboratory in Pasadena, California, automatically processed this interferogram or difference between two radar images to produce this suface displacement map. The maps were derived from synthetic aperture radar (SAR) data acquired on 1/2/2020 and 1/14/2020 by the Copernicus Sentinel-1 satellites operated by the European Space Agency (ESA). Areas with low-quality measurements have been masked out.
Suggested Use:
Areas in red are surface displacement down and to the west. Areas in blue are up and to the east.
Satellite/Sensor:
Copernicus Sentinel-1 Sythetic Aperture Radar (SAR)
Resolution: 30 meters
Credits:
Contains modified Copernicus Sentinel data, processed by ESA (2020). Analyzed by the NASA-JPL/Caltech ARIA team. This task was carried out at JPL funded by NASA.
Esri REST Endpoint:
See URL section on right side of page
WMS Endpoint:
https://maps.disasters.nasa.gov/ags04/services/puerto_rico_earthquake_202001/aria_displacement_sentinel1_20200114/ImageServer/WMSServer
Name: puerto_rico_earthquake_202001/aria_displacement_sentinel1_20200114
Description: Date of Image:
1/14/2020
Date of Next Image:
Unknown
Summary:
The Advanced Rapid Imaging and Analysis (ARIA) data system at NASA's Jet Propulsion Laboratory in Pasadena, California, automatically processed this interferogram or difference between two radar images to produce this suface displacement map. The maps were derived from synthetic aperture radar (SAR) data acquired on 1/2/2020 and 1/14/2020 by the Copernicus Sentinel-1 satellites operated by the European Space Agency (ESA). Areas with low-quality measurements have been masked out.
Suggested Use:
Areas in red are surface displacement down and to the west. Areas in blue are up and to the east.
Satellite/Sensor:
Copernicus Sentinel-1 Sythetic Aperture Radar (SAR)
Resolution: 30 meters
Credits:
Contains modified Copernicus Sentinel data, processed by ESA (2020). Analyzed by the NASA-JPL/Caltech ARIA team. This task was carried out at JPL funded by NASA.
Esri REST Endpoint:
See URL section on right side of page
WMS Endpoint:
https://maps.disasters.nasa.gov/ags04/services/puerto_rico_earthquake_202001/aria_displacement_sentinel1_20200114/ImageServer/WMSServer
Single Fused Map Cache: false
Extent:
XMin: -68.2375
YMin: 17.003888889
XMax: -66.235833333
YMax: 18.948888889
Spatial Reference: 4326
(4326)
Initial Extent:
XMin: -68.2375
YMin: 17.003888889
XMax: -66.235833333
YMax: 18.948888889
Spatial Reference: 4326
(4326)
Full Extent:
XMin: -68.2375
YMin: 17.003888889
XMax: -66.235833333
YMax: 18.948888889
Spatial Reference: 4326
(4326)
Pixel Size X: 8.333333334721044E-4
Pixel Size Y: 8.333333333333335E-4
Band Count: 1
Pixel Type: F32
RasterFunction Infos: {"rasterFunctionInfos": [
{
"name": "aria_displacement_pr_20200114",
"description": "A raster function template.",
"help": ""
},
{
"name": "None",
"description": "",
"help": ""
}
]}
Mensuration Capabilities: Basic
Has Histograms: false
Has Colormap: false
Has Multi Dimensions : false
Rendering Rule:
Min Scale: 0
Max Scale: 0
Copyright Text: NASA-JPL/Caltech ARIA team, ESA, Copernicus
Service Data Type: esriImageServiceDataTypeGeneric
Min Values: N/A
Max Values: N/A
Mean Values: N/A
Standard Deviation Values: N/A
Object ID Field:
Fields:
None
Default Mosaic Method: Center
Allowed Mosaic Methods:
SortField:
SortValue: null
Mosaic Operator: First
Default Compression Quality: 75
Default Resampling Method: Bilinear
Max Record Count: null
Max Image Height: 4100
Max Image Width: 15000
Max Download Image Count: null
Max Mosaic Image Count: null
Allow Raster Function: true
Allow Copy: true
Allow Analysis: true
Allow Compute TiePoints: false
Supports Statistics: false
Supports Advanced Queries: false
Use StandardizedQueries: true
Raster Type Infos:
Name: Raster Dataset
Description: Supports all ArcGIS Raster Datasets
Help:
Has Raster Attribute Table: false
Edit Fields Info: null
Ownership Based AccessControl For Rasters: null
Child Resources:
Info
Statistics
Key Properties
Legend
Raster Function Infos
Supported Operations:
Export Image
Identify
Measure
Compute Histograms
Compute Statistics Histograms
Get Samples
Compute Class Statistics
Query Boundary
Compute Pixel Location
Compute Angles
Validate
Project