View In:
ArcGIS JavaScript
ArcGIS Online Map Viewer
ArcGIS Earth
ArcMap
View Footprint In:
ArcGIS Online Map Viewer
Service Description: Summary:
The Advanced Rapid Imaging and Analysis (ARIA) team at NASA's Jet Propulsion Laboratory and California Institute of Technology, both in Pasadena, California, created this Damage Proxy Map (DPM) depicting areas that are likely damaged caused by the recent major earthquakes in Puerto Rico in January 2020. The map was derived from synthetic aperture radar (SAR) images from the Copernicus Sentinel-1 satellites, operated by the European Space Agency (ESA). The images were taken before and after (January 9, 2020) the sequence of earthquakes.The color variation from yellow to red indicates increasingly more significant surface change. This damage proxy map should be used as guidance to identify damaged areas, and may be less reliable over vegetated areas. For example, the scattered colored pixels over vegetated areas may be false positives, and the lack of colored pixels over vegetated areas does not necessarily mean no damage.
Suggested Use:
This damage proxy map shows surface change with yellow to red indiciating more significant change due to the recent earthquakes. The damage proxy map should be used as guidance to identify damaged areas and may be less reliable over vegetated areas. The lack of colored pixels over vegeated areas does not necessarily mean no damage.
Satellite/Sensor:
Copernicus Sentinel-1 Sythetic Aperture Radar (SAR)
Resolution: 30 meters
Credits:
Contains modified Copernicus Sentinel data, processed by ESA. Analyzed by the NASA-JPL/Caltech ARIA team. This task was carried out at JPL funded by NASA.
ESRI REST Endpoint:
See URL section on right side of the page
WMS Endpoint:
Name: puerto_rico_earthquake_202001/aria_dpm_sentinel1_20200109
Description: Summary:
The Advanced Rapid Imaging and Analysis (ARIA) team at NASA's Jet Propulsion Laboratory and California Institute of Technology, both in Pasadena, California, created this Damage Proxy Map (DPM) depicting areas that are likely damaged caused by the recent major earthquakes in Puerto Rico in January 2020. The map was derived from synthetic aperture radar (SAR) images from the Copernicus Sentinel-1 satellites, operated by the European Space Agency (ESA). The images were taken before and after (January 9, 2020) the sequence of earthquakes.The color variation from yellow to red indicates increasingly more significant surface change. This damage proxy map should be used as guidance to identify damaged areas, and may be less reliable over vegetated areas. For example, the scattered colored pixels over vegetated areas may be false positives, and the lack of colored pixels over vegetated areas does not necessarily mean no damage.
Suggested Use:
This damage proxy map shows surface change with yellow to red indiciating more significant change due to the recent earthquakes. The damage proxy map should be used as guidance to identify damaged areas and may be less reliable over vegetated areas. The lack of colored pixels over vegeated areas does not necessarily mean no damage.
Satellite/Sensor:
Copernicus Sentinel-1 Sythetic Aperture Radar (SAR)
Resolution: 30 meters
Credits:
Contains modified Copernicus Sentinel data, processed by ESA. Analyzed by the NASA-JPL/Caltech ARIA team. This task was carried out at JPL funded by NASA.
ESRI REST Endpoint:
See URL section on right side of the page
WMS Endpoint:
Single Fused Map Cache: false
Extent:
XMin: -66.74327386
YMin: 17.730617722
XMax: -65.867440527
YMax: 18.547006611
Spatial Reference: 4326
(4326)
Initial Extent:
XMin: -66.74327386
YMin: 17.730617722
XMax: -65.867440527
YMax: 18.547006611
Spatial Reference: 4326
(4326)
Full Extent:
XMin: -66.74327386
YMin: 17.730617722
XMax: -65.867440527
YMax: 18.547006611
Spatial Reference: 4326
(4326)
Pixel Size X: 2.7777777767205923E-4
Pixel Size Y: 2.7777777781558315E-4
Band Count: 4
Pixel Type: U8
RasterFunction Infos: {"rasterFunctionInfos": [
{
"name": "RGB Composite",
"description": "A raster function template.",
"help": ""
},
{
"name": "None",
"description": "",
"help": ""
}
]}
Mensuration Capabilities: Basic
Has Histograms: false
Has Colormap: false
Has Multi Dimensions : false
Rendering Rule:
Min Scale: 0
Max Scale: 0
Copyright Text: NASA, NASA Disasters Program, ARIA, Copernicus Sentinel-1
Service Data Type: esriImageServiceDataTypeGeneric
Min Values: N/A
Max Values: N/A
Mean Values: N/A
Standard Deviation Values: N/A
Object ID Field:
Fields:
None
Default Mosaic Method: Center
Allowed Mosaic Methods:
SortField:
SortValue: null
Mosaic Operator: First
Default Compression Quality: 75
Default Resampling Method: Nearest
Max Record Count: null
Max Image Height: 4100
Max Image Width: 15000
Max Download Image Count: null
Max Mosaic Image Count: null
Allow Raster Function: true
Allow Copy: true
Allow Analysis: true
Allow Compute TiePoints: false
Supports Statistics: false
Supports Advanced Queries: false
Use StandardizedQueries: true
Raster Type Infos:
Name: Raster Dataset
Description: Supports all ArcGIS Raster Datasets
Help:
Has Raster Attribute Table: false
Edit Fields Info: null
Ownership Based AccessControl For Rasters: null
Child Resources:
Info
Statistics
Key Properties
Legend
Raster Function Infos
Supported Operations:
Export Image
Identify
Measure
Compute Histograms
Compute Statistics Histograms
Get Samples
Compute Class Statistics
Query Boundary
Compute Pixel Location
Compute Angles
Validate
Project